BEGIN:VCALENDAR
VERSION:2.0
PRODID:-//Mason County Action Group Inc. - ECPv6.15.20//NONSGML v1.0//EN
CALSCALE:GREGORIAN
METHOD:PUBLISH
X-ORIGINAL-URL:https://masonseniors.com
X-WR-CALDESC:Events for Mason County Action Group Inc.
REFRESH-INTERVAL;VALUE=DURATION:PT1H
X-Robots-Tag:noindex
X-PUBLISHED-TTL:PT1H
BEGIN:VTIMEZONE
TZID:UTC
BEGIN:STANDARD
TZOFFSETFROM:+0000
TZOFFSETTO:+0000
TZNAME:UTC
DTSTART:20230101T000000
END:STANDARD
END:VTIMEZONE
BEGIN:VEVENT
DTSTART;VALUE=DATE:20240426
DTEND;VALUE=DATE:20240427
DTSTAMP:20260425T005221
CREATED:20240403T124416Z
LAST-MODIFIED:20240403T124416Z
UID:4835-1714089600-1714175999@masonseniors.com
SUMMARY:Friday Lunch
DESCRIPTION:Crab Pattie\nMac-n-Cheese\nStewed Tomatoes\nCucumber Slices\nPeaches in Jello
URL:https://masonseniors.com/event/friday-lunch-32/
CATEGORIES:Lunch Menu
END:VEVENT
BEGIN:VEVENT
DTSTART;VALUE=DATE:20240426
DTEND;VALUE=DATE:20240427
DTSTAMP:20260425T005221
CREATED:20240403T124813Z
LAST-MODIFIED:20240403T124813Z
UID:4845-1714089600-1714175999@masonseniors.com
SUMMARY:Medicare Minutes with Ann @ 10:15 - Gene Salem
DESCRIPTION:
URL:https://masonseniors.com/event/medicare-minutes-with-ann-1015-gene-salem-2/
CATEGORIES:Activities
END:VEVENT
END:VCALENDAR