BEGIN:VCALENDAR
VERSION:2.0
PRODID:-//Mason County Action Group Inc. - ECPv6.15.20//NONSGML v1.0//EN
CALSCALE:GREGORIAN
METHOD:PUBLISH
X-ORIGINAL-URL:https://masonseniors.com
X-WR-CALDESC:Events for Mason County Action Group Inc.
REFRESH-INTERVAL;VALUE=DURATION:PT1H
X-Robots-Tag:noindex
X-PUBLISHED-TTL:PT1H
BEGIN:VTIMEZONE
TZID:UTC
BEGIN:STANDARD
TZOFFSETFROM:+0000
TZOFFSETTO:+0000
TZNAME:UTC
DTSTART:20230101T000000
END:STANDARD
END:VTIMEZONE
BEGIN:VEVENT
DTSTART;VALUE=DATE:20240617
DTEND;VALUE=DATE:20240618
DTSTAMP:20260425T035746
CREATED:20240531T121320Z
LAST-MODIFIED:20240531T121320Z
UID:4928-1718582400-1718668799@masonseniors.com
SUMMARY:Monday Lunch
DESCRIPTION:Salisbury Steak w/Gravy\nMashed Potatoes\nCooked Spinach\nBread\nPineapple Slices
URL:https://masonseniors.com/event/monday-lunch-41/
CATEGORIES:Lunch Menu
END:VEVENT
END:VCALENDAR