BEGIN:VCALENDAR
VERSION:2.0
PRODID:-//Mason County Action Group Inc. - ECPv6.15.20//NONSGML v1.0//EN
CALSCALE:GREGORIAN
METHOD:PUBLISH
X-ORIGINAL-URL:https://masonseniors.com
X-WR-CALDESC:Events for Mason County Action Group Inc.
REFRESH-INTERVAL;VALUE=DURATION:PT1H
X-Robots-Tag:noindex
X-PUBLISHED-TTL:PT1H
BEGIN:VTIMEZONE
TZID:UTC
BEGIN:STANDARD
TZOFFSETFROM:+0000
TZOFFSETTO:+0000
TZNAME:UTC
DTSTART:20230101T000000
END:STANDARD
END:VTIMEZONE
BEGIN:VEVENT
DTSTART;VALUE=DATE:20240621
DTEND;VALUE=DATE:20240622
DTSTAMP:20260425T035828
CREATED:20240531T122341Z
LAST-MODIFIED:20240531T122341Z
UID:4960-1718928000-1719014399@masonseniors.com
SUMMARY:Friday Lunch
DESCRIPTION:BBQ Pork Rib Sandwich\nPickles & Onions\nCreamy Coleslaw\nBaked Beans\nPeaches in Jello
URL:https://masonseniors.com/event/friday-lunch-40/
CATEGORIES:Lunch Menu
END:VEVENT
END:VCALENDAR