BEGIN:VCALENDAR
VERSION:2.0
PRODID:-//Mason County Action Group Inc. - ECPv6.15.20//NONSGML v1.0//EN
CALSCALE:GREGORIAN
METHOD:PUBLISH
X-WR-CALNAME:Mason County Action Group Inc.
X-ORIGINAL-URL:https://masonseniors.com
X-WR-CALDESC:Events for Mason County Action Group Inc.
REFRESH-INTERVAL;VALUE=DURATION:PT1H
X-Robots-Tag:noindex
X-PUBLISHED-TTL:PT1H
BEGIN:VTIMEZONE
TZID:UTC
BEGIN:STANDARD
TZOFFSETFROM:+0000
TZOFFSETTO:+0000
TZNAME:UTC
DTSTART:20240101T000000
END:STANDARD
END:VTIMEZONE
BEGIN:VEVENT
DTSTART;VALUE=DATE:20250204
DTEND;VALUE=DATE:20250205
DTSTAMP:20260424T110717
CREATED:20250130T142441Z
LAST-MODIFIED:20250130T142441Z
UID:5306-1738627200-1738713599@masonseniors.com
SUMMARY:Tuesday Lunch
DESCRIPTION:Great Northern Beans\nCooked Spinach\nDiced Potatoes\nCornbread\nPineapple
URL:https://masonseniors.com/event/tuesday-lunch-67/
CATEGORIES:Lunch Menu
END:VEVENT
END:VCALENDAR