BEGIN:VCALENDAR
VERSION:2.0
PRODID:-//Mason County Action Group Inc. - ECPv6.15.20//NONSGML v1.0//EN
CALSCALE:GREGORIAN
METHOD:PUBLISH
X-WR-CALNAME:Mason County Action Group Inc.
X-ORIGINAL-URL:https://masonseniors.com
X-WR-CALDESC:Events for Mason County Action Group Inc.
REFRESH-INTERVAL;VALUE=DURATION:PT1H
X-Robots-Tag:noindex
X-PUBLISHED-TTL:PT1H
BEGIN:VTIMEZONE
TZID:UTC
BEGIN:STANDARD
TZOFFSETFROM:+0000
TZOFFSETTO:+0000
TZNAME:UTC
DTSTART:20240101T000000
END:STANDARD
END:VTIMEZONE
BEGIN:VEVENT
DTSTART;VALUE=DATE:20250327
DTEND;VALUE=DATE:20250328
DTSTAMP:20260424T013318
CREATED:20250228T181547Z
LAST-MODIFIED:20250228T181547Z
UID:5392-1743033600-1743119999@masonseniors.com
SUMMARY:Thursday Lunch
DESCRIPTION:Broccoli Cheese Soup\nTuna Salad Sandwich\nRed Pepper Slices\nMandarin Oranges in Jello
URL:https://masonseniors.com/event/thursday-lunch-76/
CATEGORIES:Lunch Menu
END:VEVENT
END:VCALENDAR