BEGIN:VCALENDAR
VERSION:2.0
PRODID:-//Mason County Action Group Inc. - ECPv6.15.20//NONSGML v1.0//EN
CALSCALE:GREGORIAN
METHOD:PUBLISH
X-ORIGINAL-URL:https://masonseniors.com
X-WR-CALDESC:Events for Mason County Action Group Inc.
REFRESH-INTERVAL;VALUE=DURATION:PT1H
X-Robots-Tag:noindex
X-PUBLISHED-TTL:PT1H
BEGIN:VTIMEZONE
TZID:UTC
BEGIN:STANDARD
TZOFFSETFROM:+0000
TZOFFSETTO:+0000
TZNAME:UTC
DTSTART:20240101T000000
END:STANDARD
END:VTIMEZONE
BEGIN:VEVENT
DTSTART;VALUE=DATE:20250619
DTEND;VALUE=DATE:20250620
DTSTAMP:20260424T052928
CREATED:20250529T114833Z
LAST-MODIFIED:20250529T114833Z
UID:5514-1750291200-1750377599@masonseniors.com
SUMMARY:Thursday Lunch
DESCRIPTION:Two Soft Taco Shells\nTaco Meat\, Refried Beans\nLettuce\, Tomatoes\, Cheese\nApplesauce
URL:https://masonseniors.com/event/thursday-lunch-84/
CATEGORIES:Lunch Menu
END:VEVENT
BEGIN:VEVENT
DTSTART;VALUE=DATE:20250619
DTEND;VALUE=DATE:20250620
DTSTAMP:20260424T052928
CREATED:20250529T115820Z
LAST-MODIFIED:20250529T115820Z
UID:5534-1750291200-1750377599@masonseniors.com
SUMMARY:Movie & Snack @ 10 - Gene Salem
DESCRIPTION:
URL:https://masonseniors.com/event/movie-snack-10-gene-salem/
CATEGORIES:Activities
END:VEVENT
END:VCALENDAR