BEGIN:VCALENDAR
VERSION:2.0
PRODID:-//Mason County Action Group Inc. - ECPv6.15.20//NONSGML v1.0//EN
CALSCALE:GREGORIAN
METHOD:PUBLISH
X-WR-CALNAME:Mason County Action Group Inc.
X-ORIGINAL-URL:https://masonseniors.com
X-WR-CALDESC:Events for Mason County Action Group Inc.
REFRESH-INTERVAL;VALUE=DURATION:PT1H
X-Robots-Tag:noindex
X-PUBLISHED-TTL:PT1H
BEGIN:VTIMEZONE
TZID:UTC
BEGIN:STANDARD
TZOFFSETFROM:+0000
TZOFFSETTO:+0000
TZNAME:UTC
DTSTART:20240101T000000
END:STANDARD
END:VTIMEZONE
BEGIN:VEVENT
DTSTART;VALUE=DATE:20250813
DTEND;VALUE=DATE:20250814
DTSTAMP:20260426T003319
CREATED:20250731T112519Z
LAST-MODIFIED:20250731T112519Z
UID:5607-1755043200-1755129599@masonseniors.com
SUMMARY:Wellness Checks/Health Info @ 10:30 - Gene Salem
DESCRIPTION:
URL:https://masonseniors.com/event/wellness-checks-health-info-1030-gene-salem-6/
CATEGORIES:Activities
END:VEVENT
BEGIN:VEVENT
DTSTART;VALUE=DATE:20250813
DTEND;VALUE=DATE:20250814
DTSTAMP:20260426T003319
CREATED:20250731T114850Z
LAST-MODIFIED:20250731T114850Z
UID:5635-1755043200-1755129599@masonseniors.com
SUMMARY:Wednesday Lunch
DESCRIPTION:Baked Chicken Drumsticks\nSweet Potatoes\nSteamed Broccoli\nWheat Bread\nMixed Fruit
URL:https://masonseniors.com/event/wednesday-lunch-89/
CATEGORIES:Lunch Menu
END:VEVENT
END:VCALENDAR