BEGIN:VCALENDAR
VERSION:2.0
PRODID:-//Mason County Action Group Inc. - ECPv6.15.20//NONSGML v1.0//EN
CALSCALE:GREGORIAN
METHOD:PUBLISH
X-WR-CALNAME:Mason County Action Group Inc.
X-ORIGINAL-URL:https://masonseniors.com
X-WR-CALDESC:Events for Mason County Action Group Inc.
REFRESH-INTERVAL;VALUE=DURATION:PT1H
X-Robots-Tag:noindex
X-PUBLISHED-TTL:PT1H
BEGIN:VTIMEZONE
TZID:UTC
BEGIN:STANDARD
TZOFFSETFROM:+0000
TZOFFSETTO:+0000
TZNAME:UTC
DTSTART:20240101T000000
END:STANDARD
END:VTIMEZONE
BEGIN:VEVENT
DTSTART;VALUE=DATE:20250827
DTEND;VALUE=DATE:20250828
DTSTAMP:20260424T125830
CREATED:20250731T114944Z
LAST-MODIFIED:20250731T114944Z
UID:5639-1756252800-1756339199@masonseniors.com
SUMMARY:Wednesday Lunch
DESCRIPTION:Chicken & Stuffing Casserole\nCooked Carrots\nGreen Beans\nWheat Bread\nMixed Fruit
URL:https://masonseniors.com/event/wednesday-lunch-91/
CATEGORIES:Lunch Menu
END:VEVENT
END:VCALENDAR