BEGIN:VCALENDAR
VERSION:2.0
PRODID:-//Mason County Action Group Inc. - ECPv6.15.20//NONSGML v1.0//EN
CALSCALE:GREGORIAN
METHOD:PUBLISH
X-ORIGINAL-URL:https://masonseniors.com
X-WR-CALDESC:Events for Mason County Action Group Inc.
REFRESH-INTERVAL;VALUE=DURATION:PT1H
X-Robots-Tag:noindex
X-PUBLISHED-TTL:PT1H
BEGIN:VTIMEZONE
TZID:UTC
BEGIN:STANDARD
TZOFFSETFROM:+0000
TZOFFSETTO:+0000
TZNAME:UTC
DTSTART:20250101T000000
END:STANDARD
END:VTIMEZONE
BEGIN:VEVENT
DTSTART;VALUE=DATE:20260114
DTEND;VALUE=DATE:20260115
DTSTAMP:20260423T163545
CREATED:20251230T135744Z
LAST-MODIFIED:20251230T135744Z
UID:5813-1768348800-1768435199@masonseniors.com
SUMMARY:Wednesday Lunch
DESCRIPTION:Sweet-n-Sour Chicken\nBrown Rice\nMixed Vegetables\nCabbage Egg Roll\nMandarin Oranges with Jello
URL:https://masonseniors.com/event/wednesday-lunch-102/
CATEGORIES:Lunch Menu
END:VEVENT
END:VCALENDAR