BEGIN:VCALENDAR
VERSION:2.0
PRODID:-//Mason County Action Group Inc. - ECPv6.15.20//NONSGML v1.0//EN
CALSCALE:GREGORIAN
METHOD:PUBLISH
X-ORIGINAL-URL:https://masonseniors.com
X-WR-CALDESC:Events for Mason County Action Group Inc.
REFRESH-INTERVAL;VALUE=DURATION:PT1H
X-Robots-Tag:noindex
X-PUBLISHED-TTL:PT1H
BEGIN:VTIMEZONE
TZID:UTC
BEGIN:STANDARD
TZOFFSETFROM:+0000
TZOFFSETTO:+0000
TZNAME:UTC
DTSTART:20250101T000000
END:STANDARD
END:VTIMEZONE
BEGIN:VEVENT
DTSTART;VALUE=DATE:20260123
DTEND;VALUE=DATE:20260124
DTSTAMP:20260423T212158
CREATED:20251230T134436Z
LAST-MODIFIED:20251230T134436Z
UID:5791-1769126400-1769212799@masonseniors.com
SUMMARY:Medicare Minute with Ann @ 11:30 - Gene Salem
DESCRIPTION:
URL:https://masonseniors.com/event/medicare-minute-with-ann-1130-gene-salem-2/
CATEGORIES:Activities
END:VEVENT
BEGIN:VEVENT
DTSTART;VALUE=DATE:20260123
DTEND;VALUE=DATE:20260124
DTSTAMP:20260423T212158
CREATED:20251230T140209Z
LAST-MODIFIED:20251230T140209Z
UID:5833-1769126400-1769212799@masonseniors.com
SUMMARY:Friday Lunch
DESCRIPTION:Creamed Chicken & Vegetables\nBiscuit\nMashed Potatoes\nSpiced Apples
URL:https://masonseniors.com/event/friday-lunch-95/
CATEGORIES:Lunch Menu
END:VEVENT
END:VCALENDAR