BEGIN:VCALENDAR
VERSION:2.0
PRODID:-//Mason County Action Group Inc. - ECPv6.15.20//NONSGML v1.0//EN
CALSCALE:GREGORIAN
METHOD:PUBLISH
X-ORIGINAL-URL:https://masonseniors.com
X-WR-CALDESC:Events for Mason County Action Group Inc.
REFRESH-INTERVAL;VALUE=DURATION:PT1H
X-Robots-Tag:noindex
X-PUBLISHED-TTL:PT1H
BEGIN:VTIMEZONE
TZID:UTC
BEGIN:STANDARD
TZOFFSETFROM:+0000
TZOFFSETTO:+0000
TZNAME:UTC
DTSTART:20250101T000000
END:STANDARD
END:VTIMEZONE
BEGIN:VEVENT
DTSTART;VALUE=DATE:20260126
DTEND;VALUE=DATE:20260127
DTSTAMP:20260423T212237
CREATED:20251230T135447Z
LAST-MODIFIED:20251230T135447Z
UID:5801-1769385600-1769471999@masonseniors.com
SUMMARY:Monday Lunch
DESCRIPTION:Crab Pattie\nMac-n-Cheese\nStewed Tomatoes\nCucumber Slices\nWheat Bread and Apple
URL:https://masonseniors.com/event/monday-lunch-101/
CATEGORIES:Lunch Menu
END:VEVENT
END:VCALENDAR