BEGIN:VCALENDAR
VERSION:2.0
PRODID:-//Mason County Action Group Inc. - ECPv6.15.20//NONSGML v1.0//EN
CALSCALE:GREGORIAN
METHOD:PUBLISH
X-WR-CALNAME:Mason County Action Group Inc.
X-ORIGINAL-URL:https://masonseniors.com
X-WR-CALDESC:Events for Mason County Action Group Inc.
REFRESH-INTERVAL;VALUE=DURATION:PT1H
X-Robots-Tag:noindex
X-PUBLISHED-TTL:PT1H
BEGIN:VTIMEZONE
TZID:UTC
BEGIN:STANDARD
TZOFFSETFROM:+0000
TZOFFSETTO:+0000
TZNAME:UTC
DTSTART:20180101T000000
END:STANDARD
END:VTIMEZONE
BEGIN:VEVENT
DTSTART;TZID=UTC:20190405T170000
DTEND;TZID=UTC:20190405T190000
DTSTAMP:20260420T074023
CREATED:20190401T130944Z
LAST-MODIFIED:20190401T130944Z
UID:1038-1554483600-1554490800@masonseniors.com
SUMMARY:Spring Fling Senior Dance
DESCRIPTION:
URL:https://masonseniors.com/event/spring-fling-senior-dance/
CATEGORIES:Activities,Activities - Gene Salem
END:VEVENT
BEGIN:VEVENT
DTSTART;TZID=UTC:20190408T100000
DTEND;TZID=UTC:20190408T100000
DTSTAMP:20260420T074023
CREATED:20190401T131432Z
LAST-MODIFIED:20190401T131432Z
UID:1048-1554717600-1554717600@masonseniors.com
SUMMARY:Crafts with Missie
DESCRIPTION:
URL:https://masonseniors.com/event/crafts-with-missie-4/
CATEGORIES:Activities,Activities - Mason
END:VEVENT
BEGIN:VEVENT
DTSTART;TZID=UTC:20190410T103000
DTEND;TZID=UTC:20190410T103000
DTSTAMP:20260420T074023
CREATED:20190401T131333Z
LAST-MODIFIED:20190401T131333Z
UID:1045-1554892200-1554892200@masonseniors.com
SUMMARY:Wellness Checks\, Ruth Upton\, Registered Nurse
DESCRIPTION:
URL:https://masonseniors.com/event/wellness-checks-ruth-upton-registered-nurse-3/
CATEGORIES:Activities,Activities - Gene Salem
END:VEVENT
BEGIN:VEVENT
DTSTART;TZID=UTC:20190410T103000
DTEND;TZID=UTC:20190410T103000
DTSTAMP:20260420T074023
CREATED:20190401T131351Z
LAST-MODIFIED:20190401T131351Z
UID:1046-1554892200-1554892200@masonseniors.com
SUMMARY:“Melanoma/Skin Cancer Detection”\, Malissa Slone\, Registered Nurses
DESCRIPTION:
URL:https://masonseniors.com/event/melanoma-skin-cancer-detection-malissa-slone-registered-nurses/
CATEGORIES:Activities,Activities - Gene Salem
END:VEVENT
BEGIN:VEVENT
DTSTART;TZID=UTC:20190416T110000
DTEND;TZID=UTC:20190416T110000
DTSTAMP:20260420T074023
CREATED:20190401T131404Z
LAST-MODIFIED:20190401T131404Z
UID:1047-1555412400-1555412400@masonseniors.com
SUMMARY:“Medicare Coverage of Emergency & Urgent Services\, Ann Dalton
DESCRIPTION:
URL:https://masonseniors.com/event/medicare-coverage-of-emergency-urgent-services-ann-dalton/
CATEGORIES:Activities,Activities - Gene Salem
END:VEVENT
BEGIN:VEVENT
DTSTART;TZID=UTC:20190417T113000
DTEND;TZID=UTC:20190417T113000
DTSTAMP:20260420T074023
CREATED:20190401T131452Z
LAST-MODIFIED:20190401T131452Z
UID:1049-1555500600-1555500600@masonseniors.com
SUMMARY:“Medicare Coverage of Emergency & Urgent Services\, Ann Dalton
DESCRIPTION:
URL:https://masonseniors.com/event/medicare-coverage-of-emergency-urgent-services-ann-dalton-2/
CATEGORIES:Activities,Activities - Mason
END:VEVENT
BEGIN:VEVENT
DTSTART;VALUE=DATE:20190419
DTEND;VALUE=DATE:20190420
DTSTAMP:20260420T074023
CREATED:20190401T131539Z
LAST-MODIFIED:20190401T132058Z
UID:1050-1555632000-1555718399@masonseniors.com
SUMMARY:Closed in Observance of Good Friday
DESCRIPTION:Closed in Observance of Good Friday
URL:https://masonseniors.com/event/closed-in-observance-of-good-friday/
CATEGORIES:Activities,Activities - Gene Salem,Activities - Mason
END:VEVENT
BEGIN:VEVENT
DTSTART;TZID=UTC:20190508T103000
DTEND;TZID=UTC:20190508T103000
DTSTAMP:20260420T074023
CREATED:20190501T182044Z
LAST-MODIFIED:20190501T182044Z
UID:1259-1557311400-1557311400@masonseniors.com
SUMMARY:Wellness Checks\, Ruth Upton\, Registered Nurse
DESCRIPTION:
URL:https://masonseniors.com/event/wellness-checks-ruth-upton-registered-nurse-4/
CATEGORIES:Activities,Activities - Gene Salem
END:VEVENT
BEGIN:VEVENT
DTSTART;TZID=UTC:20190508T103000
DTEND;TZID=UTC:20190508T103000
DTSTAMP:20260420T074023
CREATED:20190501T182102Z
LAST-MODIFIED:20190501T182102Z
UID:1260-1557311400-1557311400@masonseniors.com
SUMMARY:“Stroke Awareness”\, Malissa Slone\, Registered Nurses
DESCRIPTION:
URL:https://masonseniors.com/event/stroke-awareness-malissa-slone-registered-nurses/
CATEGORIES:Activities,Activities - Gene Salem
END:VEVENT
BEGIN:VEVENT
DTSTART;TZID=UTC:20190510T100000
DTEND;TZID=UTC:20190510T100000
DTSTAMP:20260420T074023
CREATED:20190501T182129Z
LAST-MODIFIED:20190501T182129Z
UID:1261-1557482400-1557482400@masonseniors.com
SUMMARY:Mother’s Day Tea Party (NO BINGO)
DESCRIPTION:
URL:https://masonseniors.com/event/mothers-day-tea-party-no-bingo/
CATEGORIES:Activities,Activities - Gene Salem
END:VEVENT
BEGIN:VEVENT
DTSTART;TZID=UTC:20190510T103000
DTEND;TZID=UTC:20190510T103000
DTSTAMP:20260420T074023
CREATED:20190501T182404Z
LAST-MODIFIED:20190501T182404Z
UID:1265-1557484200-1557484200@masonseniors.com
SUMMARY:Mother’s Day Celebration with Punch and Cake
DESCRIPTION:
URL:https://masonseniors.com/event/mothers-day-celebration-with-punch-and-cake/
CATEGORIES:Activities,Activities - Mason
END:VEVENT
BEGIN:VEVENT
DTSTART;TZID=UTC:20190513T100000
DTEND;TZID=UTC:20190513T100000
DTSTAMP:20260420T074023
CREATED:20190501T182442Z
LAST-MODIFIED:20190501T182442Z
UID:1266-1557741600-1557741600@masonseniors.com
SUMMARY:Crafts with Missie
DESCRIPTION:
URL:https://masonseniors.com/event/crafts-with-missie-5/
CATEGORIES:Activities,Activities - Mason
END:VEVENT
BEGIN:VEVENT
DTSTART;TZID=UTC:20190513T180000
DTEND;TZID=UTC:20190513T180000
DTSTAMP:20260420T074023
CREATED:20190501T180505Z
LAST-MODIFIED:20190501T180505Z
UID:1267-1557770400-1557770400@masonseniors.com
SUMMARY:Charity Bingo
DESCRIPTION:Sponsored by Point Pleasant Moose Lodge #731 to benefit Senior Services in Mason County. \nOpen to the Public. \nDoors open at 6:00pm\, games start at 7:00pm. \nSupport Seniors\, Win Cash\, and Have Fun! \nDonation of Bingo prize items for the senior centers are appreciates\, such as paper goods\, snacks\, cleaning supplies\, bath soaps\, lotions\, plastic containers\, what-nots\, anything you like-they will like.
URL:https://masonseniors.com/event/charity-bingo/
LOCATION:Point Pleasant Moose Lodge #731\, 44 Cape Lane\, Suite B\, Point Pleasant\, WV\, United States
CATEGORIES:Activities
END:VEVENT
BEGIN:VEVENT
DTSTART;TZID=UTC:20190514T110000
DTEND;TZID=UTC:20190514T110000
DTSTAMP:20260420T074023
CREATED:20190501T182226Z
LAST-MODIFIED:20190501T182226Z
UID:1262-1557831600-1557831600@masonseniors.com
SUMMARY:“Medicare Coverage of Hospice Care”\, Ann Dalton
DESCRIPTION:
URL:https://masonseniors.com/event/medicare-coverage-of-hospice-care-ann-dalton/
CATEGORIES:Activities,Activities - Gene Salem
END:VEVENT
BEGIN:VEVENT
DTSTART;TZID=UTC:20190515T113000
DTEND;TZID=UTC:20190515T113000
DTSTAMP:20260420T074023
CREATED:20190501T182503Z
LAST-MODIFIED:20190501T182503Z
UID:1296-1557919800-1557919800@masonseniors.com
SUMMARY:“Medicare Coverage of Hospice Care\, Ann Dalton
DESCRIPTION:
URL:https://masonseniors.com/event/medicare-coverage-of-hospice-care-ann-dalton-2/
CATEGORIES:Activities,Activities - Mason
END:VEVENT
BEGIN:VEVENT
DTSTART;TZID=UTC:20190521T100000
DTEND;TZID=UTC:20190521T100000
DTSTAMP:20260420T074023
CREATED:20190501T182243Z
LAST-MODIFIED:20190501T182243Z
UID:1263-1558432800-1558432800@masonseniors.com
SUMMARY:Crafts with Kate
DESCRIPTION:
URL:https://masonseniors.com/event/crafts-with-kate-3/
CATEGORIES:Activities,Activities - Gene Salem
END:VEVENT
BEGIN:VEVENT
DTSTART;VALUE=DATE:20190527
DTEND;VALUE=DATE:20190528
DTSTAMP:20260420T074023
CREATED:20190501T182301Z
LAST-MODIFIED:20190501T182301Z
UID:1264-1558915200-1559001599@masonseniors.com
SUMMARY:Closed in Observance of Memorial Day
DESCRIPTION:
URL:https://masonseniors.com/event/closed-in-observance-of-memorial-day/
CATEGORIES:Activities,Activities - Gene Salem,Activities - Mason
END:VEVENT
BEGIN:VEVENT
DTSTART;TZID=UTC:20190611T110000
DTEND;TZID=UTC:20190611T110000
DTSTAMP:20260420T074023
CREATED:20190531T133917Z
LAST-MODIFIED:20190531T133917Z
UID:1356-1560250800-1560250800@masonseniors.com
SUMMARY:“Medicare Part B & Part D Prescription Coverage”\, Ann Dalton
DESCRIPTION:
URL:https://masonseniors.com/event/medicare-part-b-part-d-prescription-coverage-ann-dalton/
CATEGORIES:Activities,Activities - Gene Salem
END:VEVENT
BEGIN:VEVENT
DTSTART;TZID=UTC:20190612T103000
DTEND;TZID=UTC:20190612T103000
DTSTAMP:20260420T074023
CREATED:20190531T133939Z
LAST-MODIFIED:20190531T133939Z
UID:1357-1560335400-1560335400@masonseniors.com
SUMMARY:Wellness Checks\, Ruth Upton\, Registered Nurse
DESCRIPTION:
URL:https://masonseniors.com/event/wellness-checks-ruth-upton-registered-nurse-5/
CATEGORIES:Activities,Activities - Gene Salem
END:VEVENT
BEGIN:VEVENT
DTSTART;TZID=UTC:20190612T103000
DTEND;TZID=UTC:20190612T103000
DTSTAMP:20260420T074023
CREATED:20190531T133954Z
LAST-MODIFIED:20190531T133954Z
UID:1358-1560335400-1560335400@masonseniors.com
SUMMARY:“Brain Health Awareness”\, Malissa Slone\, Registered Nurses
DESCRIPTION:
URL:https://masonseniors.com/event/brain-health-awareness-malissa-slone-registered-nurses/
CATEGORIES:Activities,Activities - Gene Salem
END:VEVENT
BEGIN:VEVENT
DTSTART;TZID=UTC:20190612T113000
DTEND;TZID=UTC:20190612T113000
DTSTAMP:20260420T074023
CREATED:20190531T134327Z
LAST-MODIFIED:20190531T134327Z
UID:1362-1560339000-1560339000@masonseniors.com
SUMMARY:“Medicare Part B & Part D Prescription Coverage”\, Ann Dalton
DESCRIPTION:
URL:https://masonseniors.com/event/medicare-part-b-part-d-prescription-coverage-ann-dalton-2/
CATEGORIES:Activities,Activities - Mason
END:VEVENT
BEGIN:VEVENT
DTSTART;TZID=UTC:20190614T100000
DTEND;TZID=UTC:20190614T100000
DTSTAMP:20260420T074023
CREATED:20190531T134021Z
LAST-MODIFIED:20190531T134021Z
UID:1359-1560506400-1560506400@masonseniors.com
SUMMARY:Father’s Day Celebration with Punch & Cupcakes (NO BINGO)
DESCRIPTION:
URL:https://masonseniors.com/event/fathers-day-celebration-with-punch-cupcakes-no-bingo/
CATEGORIES:Activities,Activities - Gene Salem
END:VEVENT
BEGIN:VEVENT
DTSTART;TZID=UTC:20190614T103000
DTEND;TZID=UTC:20190614T103000
DTSTAMP:20260420T074023
CREATED:20190531T134408Z
LAST-MODIFIED:20190531T134408Z
UID:1370-1560508200-1560508200@masonseniors.com
SUMMARY:Father’s Day Celebration with Punch & Cupcakes
DESCRIPTION:
URL:https://masonseniors.com/event/fathers-day-celebration-with-punch-cupcakes/
CATEGORIES:Activities,Activities - Mason
END:VEVENT
BEGIN:VEVENT
DTSTART;TZID=UTC:20190617T100000
DTEND;TZID=UTC:20190617T100000
DTSTAMP:20260420T074023
CREATED:20190531T134424Z
LAST-MODIFIED:20190531T134424Z
UID:1371-1560765600-1560765600@masonseniors.com
SUMMARY:Crafts with Missie
DESCRIPTION:
URL:https://masonseniors.com/event/crafts-with-missie-6/
CATEGORIES:Activities,Activities - Mason
END:VEVENT
BEGIN:VEVENT
DTSTART;TZID=UTC:20190618T100000
DTEND;TZID=UTC:20190618T100000
DTSTAMP:20260420T074023
CREATED:20190531T134047Z
LAST-MODIFIED:20190531T134047Z
UID:1360-1560852000-1560852000@masonseniors.com
SUMMARY:West Virginia Day Activity
DESCRIPTION:
URL:https://masonseniors.com/event/west-virginia-day-activity/
CATEGORIES:Activities,Activities - Gene Salem
END:VEVENT
BEGIN:VEVENT
DTSTART;VALUE=DATE:20190620
DTEND;VALUE=DATE:20190621
DTSTAMP:20260420T074023
CREATED:20190531T134116Z
LAST-MODIFIED:20190531T134116Z
UID:1361-1560988800-1561075199@masonseniors.com
SUMMARY:Closed in Observance of West Virginia Day
DESCRIPTION:
URL:https://masonseniors.com/event/closed-in-observance-of-west-virginia-day/
CATEGORIES:Activities,Activities - Gene Salem,Activities - Mason
END:VEVENT
BEGIN:VEVENT
DTSTART;TZID=UTC:20190703T100000
DTEND;TZID=UTC:20190703T213000
DTSTAMP:20260420T074023
CREATED:20190628T215634Z
LAST-MODIFIED:20190628T215634Z
UID:1590-1562148000-1562189400@masonseniors.com
SUMMARY:Independence Day Party
DESCRIPTION:
URL:https://masonseniors.com/event/independence-day-party/
CATEGORIES:Activities,Activities - Gene Salem
END:VEVENT
BEGIN:VEVENT
DTSTART;TZID=UTC:20190703T103000
DTEND;TZID=UTC:20190703T103000
DTSTAMP:20260420T074023
CREATED:20190628T220005Z
LAST-MODIFIED:20190628T220005Z
UID:1585-1562149800-1562149800@masonseniors.com
SUMMARY:Independence Day Celebration with Punch & Cupcakes
DESCRIPTION:
URL:https://masonseniors.com/event/independence-day-celebration-with-punch-cupcakes/
CATEGORIES:Activities,Activities - Mason
END:VEVENT
BEGIN:VEVENT
DTSTART;VALUE=DATE:20190704
DTEND;VALUE=DATE:20190705
DTSTAMP:20260420T074023
CREATED:20190628T215651Z
LAST-MODIFIED:20190628T221923Z
UID:1581-1562198400-1562284799@masonseniors.com
SUMMARY:Closed in Observance of Independence Day
DESCRIPTION:Closed in Observance of Independence Day
URL:https://masonseniors.com/event/closed-in-observance-of-independence-day/
CATEGORIES:Activities,Activities - Gene Salem,Activities - Mason
END:VEVENT
BEGIN:VEVENT
DTSTART;TZID=UTC:20190708T100000
DTEND;TZID=UTC:20190708T100000
DTSTAMP:20260420T074023
CREATED:20190628T220020Z
LAST-MODIFIED:20190628T220020Z
UID:1586-1562580000-1562580000@masonseniors.com
SUMMARY:Crafts with Missie
DESCRIPTION:
URL:https://masonseniors.com/event/crafts-with-missie-7/
CATEGORIES:Activities,Activities - Mason
END:VEVENT
END:VCALENDAR