BEGIN:VCALENDAR
VERSION:2.0
PRODID:-//Mason County Action Group Inc. - ECPv6.15.20//NONSGML v1.0//EN
CALSCALE:GREGORIAN
METHOD:PUBLISH
X-ORIGINAL-URL:https://masonseniors.com
X-WR-CALDESC:Events for Mason County Action Group Inc.
REFRESH-INTERVAL;VALUE=DURATION:PT1H
X-Robots-Tag:noindex
X-PUBLISHED-TTL:PT1H
BEGIN:VTIMEZONE
TZID:UTC
BEGIN:STANDARD
TZOFFSETFROM:+0000
TZOFFSETTO:+0000
TZNAME:UTC
DTSTART:20170101T000000
END:STANDARD
END:VTIMEZONE
BEGIN:VEVENT
DTSTART;TZID=UTC:20181120T113000
DTEND;TZID=UTC:20181120T123000
DTSTAMP:20260419T140519
CREATED:20181119T222535Z
LAST-MODIFIED:20181119T223315Z
UID:401-1542713400-1542717000@masonseniors.com
SUMMARY:Tuesday Lunch Menu
DESCRIPTION:Sauerkraut with Wieners \nMashed Potatoes \nSweet Peas \nWhole Wheat Bread \nPear Slices
URL:https://masonseniors.com/event/lunch-menu/
CATEGORIES:Lunch Menu
END:VEVENT
END:VCALENDAR