BEGIN:VCALENDAR
VERSION:2.0
PRODID:-//Mason County Action Group Inc. - ECPv6.15.20//NONSGML v1.0//EN
CALSCALE:GREGORIAN
METHOD:PUBLISH
X-WR-CALNAME:Mason County Action Group Inc.
X-ORIGINAL-URL:https://masonseniors.com
X-WR-CALDESC:Events for Mason County Action Group Inc.
REFRESH-INTERVAL;VALUE=DURATION:PT1H
X-Robots-Tag:noindex
X-PUBLISHED-TTL:PT1H
BEGIN:VTIMEZONE
TZID:UTC
BEGIN:STANDARD
TZOFFSETFROM:+0000
TZOFFSETTO:+0000
TZNAME:UTC
DTSTART:20170101T000000
END:STANDARD
END:VTIMEZONE
BEGIN:VEVENT
DTSTART;TZID=UTC:20181130T113000
DTEND;TZID=UTC:20181130T123000
DTSTAMP:20260419T165829
CREATED:20181120T144612Z
LAST-MODIFIED:20181120T144612Z
UID:425-1543577400-1543581000@masonseniors.com
SUMMARY:Friday Lunch Menu
DESCRIPTION:Chef Salad \nAssorted Dressing \nCrackers \nPear Slices
URL:https://masonseniors.com/event/friday-lunch-menu-2/
CATEGORIES:Lunch Menu
END:VEVENT
END:VCALENDAR