BEGIN:VCALENDAR
VERSION:2.0
PRODID:-//Mason County Action Group Inc. - ECPv6.15.20//NONSGML v1.0//EN
CALSCALE:GREGORIAN
METHOD:PUBLISH
X-ORIGINAL-URL:https://masonseniors.com
X-WR-CALDESC:Events for Mason County Action Group Inc.
REFRESH-INTERVAL;VALUE=DURATION:PT1H
X-Robots-Tag:noindex
X-PUBLISHED-TTL:PT1H
BEGIN:VTIMEZONE
TZID:UTC
BEGIN:STANDARD
TZOFFSETFROM:+0000
TZOFFSETTO:+0000
TZNAME:UTC
DTSTART:20240101T000000
END:STANDARD
END:VTIMEZONE
BEGIN:VEVENT
DTSTART;VALUE=DATE:20251120
DTEND;VALUE=DATE:20251121
DTSTAMP:20260425T213555
CREATED:20251030T142811Z
LAST-MODIFIED:20251030T142811Z
UID:5697-1763596800-1763683199@masonseniors.com
SUMMARY:Thursday Lunch
DESCRIPTION:Baked Turkey & Stuffing\nMashed Potatoes & Gravy\nGreen Beans\nDinner Roll\nPumpkin Pie
URL:https://masonseniors.com/event/thursday-lunch-97/
CATEGORIES:Lunch Menu
END:VEVENT
END:VCALENDAR