BEGIN:VCALENDAR
VERSION:2.0
PRODID:-//Mason County Action Group Inc. - ECPv6.15.20//NONSGML v1.0//EN
CALSCALE:GREGORIAN
METHOD:PUBLISH
X-ORIGINAL-URL:https://masonseniors.com
X-WR-CALDESC:Events for Mason County Action Group Inc.
REFRESH-INTERVAL;VALUE=DURATION:PT1H
X-Robots-Tag:noindex
X-PUBLISHED-TTL:PT1H
BEGIN:VTIMEZONE
TZID:UTC
BEGIN:STANDARD
TZOFFSETFROM:+0000
TZOFFSETTO:+0000
TZNAME:UTC
DTSTART:20180101T000000
END:STANDARD
END:VTIMEZONE
BEGIN:VEVENT
DTSTART;TZID=UTC:20190722T113000
DTEND;TZID=UTC:20190722T113000
DTSTAMP:20260419T204949
CREATED:20190628T221040Z
LAST-MODIFIED:20190628T221040Z
UID:1657-1563795000-1563795000@masonseniors.com
SUMMARY:Monday Lunch Menu
DESCRIPTION:Sauerkraut with Wieners\nMashed Potatoes\nSweet Peas\nWhole Wheat Bread\nPear Slices
URL:https://masonseniors.com/event/monday-lunch-menu-33/
CATEGORIES:Lunch Menu
END:VEVENT
BEGIN:VEVENT
DTSTART;TZID=UTC:20190723T113000
DTEND;TZID=UTC:20190723T113000
DTSTAMP:20260419T204949
CREATED:20190628T221104Z
LAST-MODIFIED:20190628T221104Z
UID:1658-1563881400-1563881400@masonseniors.com
SUMMARY:Tuesday Lunch Menu
DESCRIPTION:Sloppy Joe Sandwich\nWhole Wheat Bun\nDiced Home Fries\nSpiced Apples
URL:https://masonseniors.com/event/tuesday-lunch-menu-33/
CATEGORIES:Lunch Menu
END:VEVENT
BEGIN:VEVENT
DTSTART;TZID=UTC:20190724T113000
DTEND;TZID=UTC:20190724T113000
DTSTAMP:20260419T204949
CREATED:20190628T221135Z
LAST-MODIFIED:20190628T221135Z
UID:1659-1563967800-1563967800@masonseniors.com
SUMMARY:Wednesday Lunch Menu
DESCRIPTION:Baked Chicken Drumsticks\nMashed Potatoes\nSteamed Vegetables\nWhole Wheat Bread\nMixed Fruit
URL:https://masonseniors.com/event/wednesday-lunch-menu-35/
CATEGORIES:Lunch Menu
END:VEVENT
BEGIN:VEVENT
DTSTART;TZID=UTC:20190725T113000
DTEND;TZID=UTC:20190725T113000
DTSTAMP:20260419T204949
CREATED:20190628T221201Z
LAST-MODIFIED:20190628T221201Z
UID:1660-1564054200-1564054200@masonseniors.com
SUMMARY:Thursday Lunch Menu
DESCRIPTION:Cheeseburger\nLettuce & Tomato\nPotato Salad\nBaked Beans\nMandarin Oranges
URL:https://masonseniors.com/event/thursday-lunch-menu-33/
CATEGORIES:Lunch Menu
END:VEVENT
BEGIN:VEVENT
DTSTART;TZID=UTC:20190726T113000
DTEND;TZID=UTC:20190726T113000
DTSTAMP:20260419T204949
CREATED:20190628T221227Z
LAST-MODIFIED:20190628T221257Z
UID:1661-1564140600-1564140600@masonseniors.com
SUMMARY:Friday Lunch Menu
DESCRIPTION:Deli Sandwich\nWhole Wheat Hoagie Bun\nMacaroni Salad\nApplesauce
URL:https://masonseniors.com/event/friday-lunch-menu-35/
CATEGORIES:Lunch Menu
END:VEVENT
BEGIN:VEVENT
DTSTART;TZID=UTC:20190729T113000
DTEND;TZID=UTC:20190729T113000
DTSTAMP:20260419T204949
CREATED:20190628T221606Z
LAST-MODIFIED:20190628T221606Z
UID:1662-1564399800-1564399800@masonseniors.com
SUMMARY:Monday Lunch Menu
DESCRIPTION:Chicken Salad Sandwich\nWhole Wheat Bun\nSide Salad\nPineapple
URL:https://masonseniors.com/event/monday-lunch-menu-34/
CATEGORIES:Lunch Menu
END:VEVENT
BEGIN:VEVENT
DTSTART;TZID=UTC:20190730T113000
DTEND;TZID=UTC:20190730T113000
DTSTAMP:20260419T204949
CREATED:20190628T221625Z
LAST-MODIFIED:20190628T221625Z
UID:1663-1564486200-1564486200@masonseniors.com
SUMMARY:Tuesday Lunch Menu
DESCRIPTION:Spaghetti w/ Meat Sauce\nWhole Kernel Corn\nWhole Wheat Bread\nMandarin Oranges
URL:https://masonseniors.com/event/tuesday-lunch-menu-34/
CATEGORIES:Lunch Menu
END:VEVENT
BEGIN:VEVENT
DTSTART;TZID=UTC:20190731T113000
DTEND;TZID=UTC:20190731T113000
DTSTAMP:20260419T204949
CREATED:20190628T221646Z
LAST-MODIFIED:20190628T221646Z
UID:1664-1564572600-1564572600@masonseniors.com
SUMMARY:Wednesday Lunch Menu
DESCRIPTION:Chicken and Noodles\nCooked Carrots\nWhole Wheat Bread\nMixed Fruit
URL:https://masonseniors.com/event/wednesday-lunch-menu-36/
CATEGORIES:Lunch Menu
END:VEVENT
BEGIN:VEVENT
DTSTART;TZID=UTC:20190801T113000
DTEND;TZID=UTC:20190801T113000
DTSTAMP:20260419T204949
CREATED:20190808T201133Z
LAST-MODIFIED:20190808T201133Z
UID:1804-1564659000-1564659000@masonseniors.com
SUMMARY:Thursday Lunch Menu
DESCRIPTION:Baked Pork Chop\nSweet Potatoes\nGreen Beans\nWhole Wheat Bread\nApplesauce
URL:https://masonseniors.com/event/thursday-lunch-menu-34/
CATEGORIES:Lunch Menu
END:VEVENT
BEGIN:VEVENT
DTSTART;TZID=UTC:20190802T113000
DTEND;TZID=UTC:20190802T113000
DTSTAMP:20260419T204949
CREATED:20190808T201152Z
LAST-MODIFIED:20190808T201152Z
UID:1795-1564745400-1564745400@masonseniors.com
SUMMARY:Friday Lunch Menu
DESCRIPTION:Egg Omelet\nSausage Gravy w/Biscuit\nDiced Home Fries\nPeaches
URL:https://masonseniors.com/event/friday-lunch-menu-36/
CATEGORIES:Lunch Menu
END:VEVENT
BEGIN:VEVENT
DTSTART;TZID=UTC:20190805T113000
DTEND;TZID=UTC:20190805T113000
DTSTAMP:20260419T204949
CREATED:20190808T201211Z
LAST-MODIFIED:20190808T201211Z
UID:1796-1565004600-1565004600@masonseniors.com
SUMMARY:Monday Lunch Menu
DESCRIPTION:Salisbury Steak and Noodles\nBrown Gravy\nGreen Beans\nWhole Wheat Bread\nSpiced Apples
URL:https://masonseniors.com/event/monday-lunch-menu-35/
CATEGORIES:Lunch Menu
END:VEVENT
BEGIN:VEVENT
DTSTART;TZID=UTC:20190806T113000
DTEND;TZID=UTC:20190806T113000
DTSTAMP:20260419T204949
CREATED:20190808T201231Z
LAST-MODIFIED:20190808T201231Z
UID:1797-1565091000-1565091000@masonseniors.com
SUMMARY:Tuesday Lunch Menu
DESCRIPTION:Sweet & Sour Chicken\nWhite Rice\nSteamed Broccoli\nWhole Wheat Bread\nPears
URL:https://masonseniors.com/event/tuesday-lunch-menu-35/
CATEGORIES:Lunch Menu
END:VEVENT
BEGIN:VEVENT
DTSTART;TZID=UTC:20190807T113000
DTEND;TZID=UTC:20190807T113000
DTSTAMP:20260419T204949
CREATED:20190808T201251Z
LAST-MODIFIED:20190808T201251Z
UID:1798-1565177400-1565177400@masonseniors.com
SUMMARY:Wednesday Lunch Menu
DESCRIPTION:Great Northern Beans\nCooked Spinach\nCornbread\nMandarin Oranges
URL:https://masonseniors.com/event/wednesday-lunch-menu-37/
CATEGORIES:Lunch Menu
END:VEVENT
BEGIN:VEVENT
DTSTART;TZID=UTC:20190808T113000
DTEND;TZID=UTC:20190808T113000
DTSTAMP:20260419T204949
CREATED:20190808T201309Z
LAST-MODIFIED:20190808T201309Z
UID:1799-1565263800-1565263800@masonseniors.com
SUMMARY:Thursday Lunch Menu
DESCRIPTION:Battered Baked Fish\nStewed Tomatoes\nCreamy Coleslaw\nWhole Wheat Bread\nMixed Fruit
URL:https://masonseniors.com/event/thursday-lunch-menu-35/
CATEGORIES:Lunch Menu
END:VEVENT
BEGIN:VEVENT
DTSTART;TZID=UTC:20190809T113000
DTEND;TZID=UTC:20190809T113000
DTSTAMP:20260419T204949
CREATED:20190808T201329Z
LAST-MODIFIED:20190808T201329Z
UID:1800-1565350200-1565350200@masonseniors.com
SUMMARY:Friday Lunch Menu
DESCRIPTION:Taco Salad w/ Meat and Refried Beans\nLettuce\, Tomatoes\, Cheese\nFrito Corn Chips\nApplesauce
URL:https://masonseniors.com/event/friday-lunch-menu-37/
CATEGORIES:Lunch Menu
END:VEVENT
BEGIN:VEVENT
DTSTART;TZID=UTC:20190812T113000
DTEND;TZID=UTC:20190812T113000
DTSTAMP:20260419T204949
CREATED:20190808T201348Z
LAST-MODIFIED:20190808T201348Z
UID:1801-1565609400-1565609400@masonseniors.com
SUMMARY:Monday Lunch Menu
DESCRIPTION:Pork Rib Sandwich w/ Pickle & Onion\nWhole Wheat Hoagie Bun\nBaked Beans\nPineapple
URL:https://masonseniors.com/event/monday-lunch-menu-36/
CATEGORIES:Lunch Menu
END:VEVENT
BEGIN:VEVENT
DTSTART;TZID=UTC:20190813T113000
DTEND;TZID=UTC:20190813T113000
DTSTAMP:20260419T204949
CREATED:20190808T201409Z
LAST-MODIFIED:20190808T201409Z
UID:1802-1565695800-1565695800@masonseniors.com
SUMMARY:Tuesday Lunch Menu
DESCRIPTION:Chicken Salad Sandwich\nWhole Wheat Bun\nBroccoli Cheese Soup\nMandarin Oranges
URL:https://masonseniors.com/event/tuesday-lunch-menu-36/
CATEGORIES:Lunch Menu
END:VEVENT
BEGIN:VEVENT
DTSTART;TZID=UTC:20190814T113000
DTEND;TZID=UTC:20190814T113000
DTSTAMP:20260419T204949
CREATED:20190808T201434Z
LAST-MODIFIED:20190808T201434Z
UID:1803-1565782200-1565782200@masonseniors.com
SUMMARY:Wednesday Lunch Menu
DESCRIPTION:Meatloaf\nMashed Potatoes\nSweet Peas\nWhole Wheat Bread\nApplesauce
URL:https://masonseniors.com/event/wednesday-lunch-menu-38/
CATEGORIES:Lunch Menu
END:VEVENT
BEGIN:VEVENT
DTSTART;TZID=UTC:20190815T113000
DTEND;TZID=UTC:20190815T113000
DTSTAMP:20260419T204949
CREATED:20190808T201508Z
LAST-MODIFIED:20190808T201508Z
UID:1815-1565868600-1565868600@masonseniors.com
SUMMARY:Thursday Lunch Menu
DESCRIPTION:Hot Dog w/ Sauce\nWhole Wheat Bun\nCreamy Coleslaw\nPork n’ Beans\nMixed Fruit
URL:https://masonseniors.com/event/thursday-lunch-menu-36/
CATEGORIES:Lunch Menu
END:VEVENT
BEGIN:VEVENT
DTSTART;TZID=UTC:20190816T113000
DTEND;TZID=UTC:20190816T113000
DTSTAMP:20260419T204949
CREATED:20190808T201525Z
LAST-MODIFIED:20190808T201525Z
UID:1816-1565955000-1565955000@masonseniors.com
SUMMARY:Friday Lunch Menu
DESCRIPTION:Chef Salad with Diced Turkey\nAssorted Dressings\nCrackers\nPeaches
URL:https://masonseniors.com/event/friday-lunch-menu-38/
CATEGORIES:Lunch Menu
END:VEVENT
BEGIN:VEVENT
DTSTART;TZID=UTC:20190819T113000
DTEND;TZID=UTC:20190819T113000
DTSTAMP:20260419T204949
CREATED:20190808T201544Z
LAST-MODIFIED:20190808T201544Z
UID:1817-1566214200-1566214200@masonseniors.com
SUMMARY:Monday Lunch Menu
DESCRIPTION:Baked Homestyle Chicken\nGarden Harvest Rice\nSteamed Broccoli\nWhole Wheat Bread\nPears
URL:https://masonseniors.com/event/monday-lunch-menu-37/
CATEGORIES:Lunch Menu
END:VEVENT
BEGIN:VEVENT
DTSTART;TZID=UTC:20190820T113000
DTEND;TZID=UTC:20190820T113000
DTSTAMP:20260419T204949
CREATED:20190808T201603Z
LAST-MODIFIED:20190808T201603Z
UID:1818-1566300600-1566300600@masonseniors.com
SUMMARY:Tuesday Lunch Menu
DESCRIPTION:Sloppy Joe Sandwich\nWhole Wheat Bun\nDiced Home Fries\nSpiced Apples
URL:https://masonseniors.com/event/tuesday-lunch-menu-37/
CATEGORIES:Lunch Menu
END:VEVENT
BEGIN:VEVENT
DTSTART;TZID=UTC:20190821T113000
DTEND;TZID=UTC:20190821T113000
DTSTAMP:20260419T204949
CREATED:20190808T201623Z
LAST-MODIFIED:20190808T201623Z
UID:1819-1566387000-1566387000@masonseniors.com
SUMMARY:Wednesday Lunch Menu
DESCRIPTION:Baked Chicken Drumsticks\nMashed Potatoes\nSteamed Vegetables\nWhole Wheat Bread\nMixed Fruit
URL:https://masonseniors.com/event/wednesday-lunch-menu-39/
CATEGORIES:Lunch Menu
END:VEVENT
BEGIN:VEVENT
DTSTART;TZID=UTC:20190822T113000
DTEND;TZID=UTC:20190822T113000
DTSTAMP:20260419T204949
CREATED:20190808T201651Z
LAST-MODIFIED:20190808T201651Z
UID:1820-1566473400-1566473400@masonseniors.com
SUMMARY:Thursday Lunch Menu
DESCRIPTION:Cheeseburger\nLettuce & Tomato\nPotato Salad\nBaked Beans\nMandarin Oranges
URL:https://masonseniors.com/event/thursday-lunch-menu-37/
CATEGORIES:Lunch Menu
END:VEVENT
BEGIN:VEVENT
DTSTART;TZID=UTC:20190823T113000
DTEND;TZID=UTC:20190823T113000
DTSTAMP:20260419T204949
CREATED:20190808T201710Z
LAST-MODIFIED:20190808T201710Z
UID:1821-1566559800-1566559800@masonseniors.com
SUMMARY:Friday Lunch Menu
DESCRIPTION:Luau Cupcake \nDeli Sandwich\nWhole Wheat Bun\nMacaroni Salad\nPineapple
URL:https://masonseniors.com/event/friday-lunch-menu-39/
CATEGORIES:Lunch Menu
END:VEVENT
BEGIN:VEVENT
DTSTART;TZID=UTC:20190826T113000
DTEND;TZID=UTC:20190826T113000
DTSTAMP:20260419T204949
CREATED:20190808T201730Z
LAST-MODIFIED:20190808T201730Z
UID:1822-1566819000-1566819000@masonseniors.com
SUMMARY:Monday Lunch Menu
DESCRIPTION:Sauerkraut with Wieners\nMashed Potatoes\nSweet Peas\nWhole Wheat Bread\nPear Slices
URL:https://masonseniors.com/event/monday-lunch-menu-38/
CATEGORIES:Lunch Menu
END:VEVENT
BEGIN:VEVENT
DTSTART;TZID=UTC:20190827T113000
DTEND;TZID=UTC:20190827T113000
DTSTAMP:20260419T204949
CREATED:20190808T201753Z
LAST-MODIFIED:20190808T201753Z
UID:1823-1566905400-1566905400@masonseniors.com
SUMMARY:Tuesday Lunch Menu
DESCRIPTION:Spaghetti w/ Meat Sauce\nWhole Kernel Corn\nWhole Wheat Bread\nMandarin Oranges
URL:https://masonseniors.com/event/tuesday-lunch-menu-38/
CATEGORIES:Lunch Menu
END:VEVENT
BEGIN:VEVENT
DTSTART;TZID=UTC:20190828T113000
DTEND;TZID=UTC:20190828T113000
DTSTAMP:20260419T204949
CREATED:20190808T201814Z
LAST-MODIFIED:20190808T201814Z
UID:1824-1566991800-1566991800@masonseniors.com
SUMMARY:Wednesday Lunch Menu
DESCRIPTION:Chicken and Noodles\nCooked Carrots\nWhole Wheat Bread\nMixed Fruit
URL:https://masonseniors.com/event/wednesday-lunch-menu-40/
CATEGORIES:Lunch Menu
END:VEVENT
BEGIN:VEVENT
DTSTART;TZID=UTC:20190829T113000
DTEND;TZID=UTC:20190829T113000
DTSTAMP:20260419T204949
CREATED:20190808T201839Z
LAST-MODIFIED:20190808T201839Z
UID:1835-1567078200-1567078200@masonseniors.com
SUMMARY:Thursday Lunch Menu
DESCRIPTION:Beef Patty\nSweet Potatoes\nMixed Vegetables\nWhole Wheat Bread\nApplesauce
URL:https://masonseniors.com/event/thursday-lunch-menu-38/
CATEGORIES:Lunch Menu
END:VEVENT
BEGIN:VEVENT
DTSTART;TZID=UTC:20190830T113000
DTEND;TZID=UTC:20190830T113000
DTSTAMP:20260419T204949
CREATED:20190808T201900Z
LAST-MODIFIED:20190808T201900Z
UID:1836-1567164600-1567164600@masonseniors.com
SUMMARY:Friday Lunch Menu
DESCRIPTION:Chicken Salad Sandwich\nWhole Wheat Bun\nSide Salad\nPineapple
URL:https://masonseniors.com/event/friday-lunch-menu-40/
CATEGORIES:Lunch Menu
END:VEVENT
END:VCALENDAR