BEGIN:VCALENDAR
VERSION:2.0
PRODID:-//Mason County Action Group Inc. - ECPv6.15.20//NONSGML v1.0//EN
CALSCALE:GREGORIAN
METHOD:PUBLISH
X-ORIGINAL-URL:https://masonseniors.com
X-WR-CALDESC:Events for Mason County Action Group Inc.
REFRESH-INTERVAL;VALUE=DURATION:PT1H
X-Robots-Tag:noindex
X-PUBLISHED-TTL:PT1H
BEGIN:VTIMEZONE
TZID:UTC
BEGIN:STANDARD
TZOFFSETFROM:+0000
TZOFFSETTO:+0000
TZNAME:UTC
DTSTART:20240101T000000
END:STANDARD
END:VTIMEZONE
BEGIN:VEVENT
DTSTART;VALUE=DATE:20251124
DTEND;VALUE=DATE:20251125
DTSTAMP:20260426T004159
CREATED:20251030T141914Z
LAST-MODIFIED:20251030T141914Z
UID:5671-1763942400-1764028799@masonseniors.com
SUMMARY:Monday Lunch
DESCRIPTION:Salisbury Steak w/Gravy\nMashed Potatoes\nCooked Spinach\nWheat Bread\nApplesauce
URL:https://masonseniors.com/event/monday-lunch-93/
CATEGORIES:Lunch Menu
END:VEVENT
BEGIN:VEVENT
DTSTART;VALUE=DATE:20251125
DTEND;VALUE=DATE:20251126
DTSTAMP:20260426T004159
CREATED:20251030T142126Z
LAST-MODIFIED:20251030T142126Z
UID:5679-1764028800-1764115199@masonseniors.com
SUMMARY:Tuesday Lunch
DESCRIPTION:Homemade Vegetable Soup\nBologna & Cheese Sandwich\non Wheat Bread\nDiced Peaches in Jello
URL:https://masonseniors.com/event/tuesday-lunch-95/
CATEGORIES:Lunch Menu
END:VEVENT
BEGIN:VEVENT
DTSTART;VALUE=DATE:20251126
DTEND;VALUE=DATE:20251127
DTSTAMP:20260426T004159
CREATED:20251030T142315Z
LAST-MODIFIED:20251030T142315Z
UID:5687-1764115200-1764201599@masonseniors.com
SUMMARY:Wednesday Lunch
DESCRIPTION:Baked Chicken Drumsticks\nSweet Potatoes\nSteamed Broccoli\nWheat Bread\nPineapple Juice
URL:https://masonseniors.com/event/wednesday-lunch-95/
CATEGORIES:Lunch Menu
END:VEVENT
BEGIN:VEVENT
DTSTART;VALUE=DATE:20251127
DTEND;VALUE=DATE:20251129
DTSTAMP:20260426T004159
CREATED:20251030T142354Z
LAST-MODIFIED:20251030T142354Z
UID:5689-1764201600-1764374399@masonseniors.com
SUMMARY:Closed for Thanksgiving
DESCRIPTION:
URL:https://masonseniors.com/event/closed-for-thanksgiving-3/
CATEGORIES:Lunch Menu
END:VEVENT
END:VCALENDAR