BEGIN:VCALENDAR
VERSION:2.0
PRODID:-//Mason County Action Group Inc. - ECPv6.15.20//NONSGML v1.0//EN
CALSCALE:GREGORIAN
METHOD:PUBLISH
X-WR-CALNAME:Mason County Action Group Inc.
X-ORIGINAL-URL:https://masonseniors.com
X-WR-CALDESC:Events for Mason County Action Group Inc.
REFRESH-INTERVAL;VALUE=DURATION:PT1H
X-Robots-Tag:noindex
X-PUBLISHED-TTL:PT1H
BEGIN:VTIMEZONE
TZID:UTC
BEGIN:STANDARD
TZOFFSETFROM:+0000
TZOFFSETTO:+0000
TZNAME:UTC
DTSTART:20230101T000000
END:STANDARD
END:VTIMEZONE
BEGIN:VEVENT
DTSTART;VALUE=DATE:20240401
DTEND;VALUE=DATE:20240402
DTSTAMP:20260425T143918
CREATED:20240403T123142Z
LAST-MODIFIED:20240403T123142Z
UID:4792-1711929600-1712015999@masonseniors.com
SUMMARY:Monday Lunch
DESCRIPTION:Crab Pattie\nMac-n-Cheese\nStewed Tomatoes\nCucumber Slices\nFresh Apple
URL:https://masonseniors.com/event/monday-lunch-30/
CATEGORIES:Lunch Menu
END:VEVENT
BEGIN:VEVENT
DTSTART;VALUE=DATE:20240402
DTEND;VALUE=DATE:20240403
DTSTAMP:20260425T143918
CREATED:20240403T123538Z
LAST-MODIFIED:20240403T123538Z
UID:4803-1712016000-1712102399@masonseniors.com
SUMMARY:Tuesday Lunch
DESCRIPTION:Meatloaf\nMashed Potatoes\nSweet Peas\nWheat Bread\nMandarin Oranges
URL:https://masonseniors.com/event/tuesday-lunch-31/
CATEGORIES:Lunch Menu
END:VEVENT
BEGIN:VEVENT
DTSTART;VALUE=DATE:20240403
DTEND;VALUE=DATE:20240404
DTSTAMP:20260425T143918
CREATED:20240403T123813Z
LAST-MODIFIED:20240403T123813Z
UID:4813-1712102400-1712188799@masonseniors.com
SUMMARY:Wednesday Lunch
DESCRIPTION:Baked Homestyle Chicken\nRice Pilaf\nCooked Carrots & Broccoli\nPineapple Slices
URL:https://masonseniors.com/event/wednesday-lunch-31/
CATEGORIES:Lunch Menu
END:VEVENT
BEGIN:VEVENT
DTSTART;VALUE=DATE:20240404
DTEND;VALUE=DATE:20240405
DTSTAMP:20260425T143918
CREATED:20240403T124039Z
LAST-MODIFIED:20240403T124039Z
UID:4821-1712188800-1712275199@masonseniors.com
SUMMARY:Thursday Lunch
DESCRIPTION:Two Soft Taco Shells\nTaco Meat\, Refried Beans\nLettuce\, Tomatoes\, Cheese\nApplesauce
URL:https://masonseniors.com/event/thursday-lunch-31/
CATEGORIES:Lunch Menu
END:VEVENT
BEGIN:VEVENT
DTSTART;VALUE=DATE:20240405
DTEND;VALUE=DATE:20240406
DTSTAMP:20260425T143918
CREATED:20240403T124234Z
LAST-MODIFIED:20240403T124234Z
UID:4829-1712275200-1712361599@masonseniors.com
SUMMARY:Friday Lunch
DESCRIPTION:Creamed Chicken & Vegetables\nBiscuit\nSpiced Apples
URL:https://masonseniors.com/event/friday-lunch-29/
CATEGORIES:Lunch Menu
END:VEVENT
END:VCALENDAR