BEGIN:VCALENDAR
VERSION:2.0
PRODID:-//Mason County Action Group Inc. - ECPv6.15.20//NONSGML v1.0//EN
CALSCALE:GREGORIAN
METHOD:PUBLISH
X-WR-CALNAME:Mason County Action Group Inc.
X-ORIGINAL-URL:https://masonseniors.com
X-WR-CALDESC:Events for Mason County Action Group Inc.
REFRESH-INTERVAL;VALUE=DURATION:PT1H
X-Robots-Tag:noindex
X-PUBLISHED-TTL:PT1H
BEGIN:VTIMEZONE
TZID:UTC
BEGIN:STANDARD
TZOFFSETFROM:+0000
TZOFFSETTO:+0000
TZNAME:UTC
DTSTART:20230101T000000
END:STANDARD
END:VTIMEZONE
BEGIN:VEVENT
DTSTART;VALUE=DATE:20240415
DTEND;VALUE=DATE:20240416
DTSTAMP:20260425T143919
CREATED:20240403T123254Z
LAST-MODIFIED:20240403T123254Z
UID:4797-1713139200-1713225599@masonseniors.com
SUMMARY:Monday Lunch
DESCRIPTION:Cheeseburger on Wheat Bun\nLettuce &Tomato\nCorn\nMixed Fruit
URL:https://masonseniors.com/event/monday-lunch-32/
CATEGORIES:Lunch Menu
END:VEVENT
BEGIN:VEVENT
DTSTART;VALUE=DATE:20240416
DTEND;VALUE=DATE:20240417
DTSTAMP:20260425T143919
CREATED:20240403T123641Z
LAST-MODIFIED:20240403T123641Z
UID:4807-1713225600-1713311999@masonseniors.com
SUMMARY:Tuesday Lunch
DESCRIPTION:Sweet-n-Sour Chicken\nWhite Rice\nMixed Vegetables\nEgg Roll\nFresh Banana
URL:https://masonseniors.com/event/tuesday-lunch-33/
CATEGORIES:Lunch Menu
END:VEVENT
BEGIN:VEVENT
DTSTART;VALUE=DATE:20240417
DTEND;VALUE=DATE:20240418
DTSTAMP:20260425T143919
CREATED:20240403T123916Z
LAST-MODIFIED:20240403T123916Z
UID:4817-1713312000-1713398399@masonseniors.com
SUMMARY:Wednesday Lunch
DESCRIPTION:Broccoli Cheese Soup\nTuna Salad Sandwich\nCorn Chips\nRed Pepper Slices\nFresh Apple
URL:https://masonseniors.com/event/wednesday-lunch-33/
CATEGORIES:Lunch Menu
END:VEVENT
BEGIN:VEVENT
DTSTART;VALUE=DATE:20240418
DTEND;VALUE=DATE:20240419
DTSTAMP:20260425T143919
CREATED:20240403T124136Z
LAST-MODIFIED:20240403T124136Z
UID:4825-1713398400-1713484799@masonseniors.com
SUMMARY:Thursday Lunch
DESCRIPTION:Spaghetti w/ Meat Sauce\nSide Salad\nWheat Bread\nMandarin Oranges
URL:https://masonseniors.com/event/thursday-lunch-33/
CATEGORIES:Lunch Menu
END:VEVENT
BEGIN:VEVENT
DTSTART;VALUE=DATE:20240419
DTEND;VALUE=DATE:20240420
DTSTAMP:20260425T143919
CREATED:20240403T124347Z
LAST-MODIFIED:20240403T124347Z
UID:4833-1713484800-1713571199@masonseniors.com
SUMMARY:Friday Lunch
DESCRIPTION:Chef Salad with Diced Turkey\nRanch Dressing\nSaltine Crackers\nPeaches
URL:https://masonseniors.com/event/friday-lunch-31/
CATEGORIES:Lunch Menu
END:VEVENT
END:VCALENDAR