BEGIN:VCALENDAR
VERSION:2.0
PRODID:-//Mason County Action Group Inc. - ECPv6.15.20//NONSGML v1.0//EN
CALSCALE:GREGORIAN
METHOD:PUBLISH
X-ORIGINAL-URL:https://masonseniors.com
X-WR-CALDESC:Events for Mason County Action Group Inc.
REFRESH-INTERVAL;VALUE=DURATION:PT1H
X-Robots-Tag:noindex
X-PUBLISHED-TTL:PT1H
BEGIN:VTIMEZONE
TZID:UTC
BEGIN:STANDARD
TZOFFSETFROM:+0000
TZOFFSETTO:+0000
TZNAME:UTC
DTSTART:20230101T000000
END:STANDARD
END:VTIMEZONE
BEGIN:VEVENT
DTSTART;VALUE=DATE:20240506
DTEND;VALUE=DATE:20240507
DTSTAMP:20260425T022324
CREATED:20240430T163254Z
LAST-MODIFIED:20240430T163254Z
UID:4855-1714953600-1715039999@masonseniors.com
SUMMARY:Monday Lunch
DESCRIPTION:Salisbury Steak w/Gravy\nMashed Potatoes\nCooked Spinach\nBread\nPineapple Slices
URL:https://masonseniors.com/event/monday-lunch-35/
CATEGORIES:Lunch Menu
END:VEVENT
BEGIN:VEVENT
DTSTART;VALUE=DATE:20240507
DTEND;VALUE=DATE:20240508
DTSTAMP:20260425T022324
CREATED:20240430T163447Z
LAST-MODIFIED:20240430T163447Z
UID:4863-1715040000-1715126399@masonseniors.com
SUMMARY:Tuesday Lunch
DESCRIPTION:BBQ Chicken Breast\nRoasted Potatoes\nGreen Beans\nBread\nApplesauce
URL:https://masonseniors.com/event/tuesday-lunch-36/
CATEGORIES:Lunch Menu
END:VEVENT
BEGIN:VEVENT
DTSTART;VALUE=DATE:20240507
DTEND;VALUE=DATE:20240508
DTSTAMP:20260425T022324
CREATED:20240430T164525Z
LAST-MODIFIED:20240430T164525Z
UID:4901-1715040000-1715126399@masonseniors.com
SUMMARY:Mothers’ Day Brunch @ 10:30 - Gene Salem
DESCRIPTION:
URL:https://masonseniors.com/event/mothers-day-brunch-1030-gene-salem/
CATEGORIES:Activities
END:VEVENT
BEGIN:VEVENT
DTSTART;VALUE=DATE:20240508
DTEND;VALUE=DATE:20240509
DTSTAMP:20260425T022324
CREATED:20240430T163711Z
LAST-MODIFIED:20240430T163711Z
UID:4873-1715126400-1715212799@masonseniors.com
SUMMARY:Wednesday Lunch
DESCRIPTION:Egg & Cheese Omelet\nSausage Gravy & Biscuit\nHome Fries\nBanana
URL:https://masonseniors.com/event/wednesday-lunch-36/
CATEGORIES:Lunch Menu
END:VEVENT
BEGIN:VEVENT
DTSTART;VALUE=DATE:20240509
DTEND;VALUE=DATE:20240510
DTSTAMP:20260425T022324
CREATED:20240430T164044Z
LAST-MODIFIED:20240430T164044Z
UID:4883-1715212800-1715299199@masonseniors.com
SUMMARY:Thursday Lunch
DESCRIPTION:Baked Battered Fish\nStewed Tomatoes\nCreamy Coleslaw\nMandarin Oranges in Jello
URL:https://masonseniors.com/event/thursday-lunch-36/
CATEGORIES:Lunch Menu
END:VEVENT
BEGIN:VEVENT
DTSTART;VALUE=DATE:20240510
DTEND;VALUE=DATE:20240511
DTSTAMP:20260425T022324
CREATED:20240430T164248Z
LAST-MODIFIED:20240430T164248Z
UID:4893-1715299200-1715385599@masonseniors.com
SUMMARY:Friday Lunch
DESCRIPTION:BBQ Pork Rib Sandwich\nPickles & Onions\nCreamy Coleslaw\nBaked Beans\nPeaches in Jello
URL:https://masonseniors.com/event/friday-lunch-34/
CATEGORIES:Lunch Menu
END:VEVENT
BEGIN:VEVENT
DTSTART;VALUE=DATE:20240510
DTEND;VALUE=DATE:20240511
DTSTAMP:20260425T022324
CREATED:20240430T164612Z
LAST-MODIFIED:20240430T164612Z
UID:4903-1715299200-1715385599@masonseniors.com
SUMMARY:Bingo with Amy\, Holzer Sr. Care @ 10:30 - Gene Salem
DESCRIPTION:
URL:https://masonseniors.com/event/bingo-with-amy-holzer-sr-care-1030-gene-salem/
CATEGORIES:Activities
END:VEVENT
BEGIN:VEVENT
DTSTART;VALUE=DATE:20240510
DTEND;VALUE=DATE:20240511
DTSTAMP:20260425T022324
CREATED:20240430T172821Z
LAST-MODIFIED:20240430T172821Z
UID:4915-1715299200-1715385599@masonseniors.com
SUMMARY:Crafts with Barb @ 10:30 - Mason
DESCRIPTION:
URL:https://masonseniors.com/event/crafts-with-barb-1030-mason/
CATEGORIES:Activities
END:VEVENT
END:VCALENDAR