BEGIN:VCALENDAR
VERSION:2.0
PRODID:-//Mason County Action Group Inc. - ECPv6.15.20//NONSGML v1.0//EN
CALSCALE:GREGORIAN
METHOD:PUBLISH
X-WR-CALNAME:Mason County Action Group Inc.
X-ORIGINAL-URL:https://masonseniors.com
X-WR-CALDESC:Events for Mason County Action Group Inc.
REFRESH-INTERVAL;VALUE=DURATION:PT1H
X-Robots-Tag:noindex
X-PUBLISHED-TTL:PT1H
BEGIN:VTIMEZONE
TZID:UTC
BEGIN:STANDARD
TZOFFSETFROM:+0000
TZOFFSETTO:+0000
TZNAME:UTC
DTSTART:20230101T000000
END:STANDARD
END:VTIMEZONE
BEGIN:VEVENT
DTSTART;VALUE=DATE:20240513
DTEND;VALUE=DATE:20240514
DTSTAMP:20260425T111820
CREATED:20240430T163321Z
LAST-MODIFIED:20240430T163321Z
UID:4857-1715558400-1715644799@masonseniors.com
SUMMARY:Monday Lunch
DESCRIPTION:Crab Pattie\nMac-n-Cheese\nStewed Tomatoes\nCucumber Slices\nApple
URL:https://masonseniors.com/event/monday-lunch-36/
CATEGORIES:Lunch Menu
END:VEVENT
BEGIN:VEVENT
DTSTART;VALUE=DATE:20240513
DTEND;VALUE=DATE:20240514
DTSTAMP:20260425T111820
CREATED:20240430T172905Z
LAST-MODIFIED:20240430T172905Z
UID:4917-1715558400-1715644799@masonseniors.com
SUMMARY:Movie & Popcorn @ 10 - Mason
DESCRIPTION:
URL:https://masonseniors.com/event/movie-popcorn-10-mason/
CATEGORIES:Activities
END:VEVENT
BEGIN:VEVENT
DTSTART;VALUE=DATE:20240514
DTEND;VALUE=DATE:20240515
DTSTAMP:20260425T111820
CREATED:20240430T163519Z
LAST-MODIFIED:20240430T163519Z
UID:4865-1715644800-1715731199@masonseniors.com
SUMMARY:Tuesday Lunch
DESCRIPTION:Closed for Primary Election
URL:https://masonseniors.com/event/tuesday-lunch-37/
CATEGORIES:Lunch Menu
END:VEVENT
BEGIN:VEVENT
DTSTART;VALUE=DATE:20240514
DTEND;VALUE=DATE:20240515
DTSTAMP:20260425T111820
CREATED:20240430T164643Z
LAST-MODIFIED:20240430T164643Z
UID:4905-1715644800-1715731199@masonseniors.com
SUMMARY:Main Street Stroll & Shopping @ 10 - Gene Salem
DESCRIPTION:
URL:https://masonseniors.com/event/main-street-stroll-shopping-10-gene-salem/
CATEGORIES:Activities
END:VEVENT
BEGIN:VEVENT
DTSTART;VALUE=DATE:20240515
DTEND;VALUE=DATE:20240516
DTSTAMP:20260425T111820
CREATED:20240430T163734Z
LAST-MODIFIED:20240430T163734Z
UID:4875-1715731200-1715817599@masonseniors.com
SUMMARY:Wednesday Lunch
DESCRIPTION:Baked Homestyle Chicken\nRice Pilaf\nCooked Carrots & Broccoli\nPineapple
URL:https://masonseniors.com/event/wednesday-lunch-37/
CATEGORIES:Lunch Menu
END:VEVENT
BEGIN:VEVENT
DTSTART;VALUE=DATE:20240516
DTEND;VALUE=DATE:20240517
DTSTAMP:20260425T111820
CREATED:20240430T164112Z
LAST-MODIFIED:20240430T164112Z
UID:4885-1715817600-1715903999@masonseniors.com
SUMMARY:Thursday Lunch
DESCRIPTION:Two Soft Taco Shells\nTaco Meat\, Refried Beans\nLettuce\, Tomatoes\, Cheese\nApplesauce
URL:https://masonseniors.com/event/thursday-lunch-37/
CATEGORIES:Lunch Menu
END:VEVENT
BEGIN:VEVENT
DTSTART;VALUE=DATE:20240517
DTEND;VALUE=DATE:20240518
DTSTAMP:20260425T111820
CREATED:20240430T164310Z
LAST-MODIFIED:20240430T164310Z
UID:4895-1715904000-1715990399@masonseniors.com
SUMMARY:Friday Lunch
DESCRIPTION:Creamed Chicken & Vegetables\nBiscuit\nSpiced Apples
URL:https://masonseniors.com/event/friday-lunch-35/
CATEGORIES:Lunch Menu
END:VEVENT
END:VCALENDAR