BEGIN:VCALENDAR
VERSION:2.0
PRODID:-//Mason County Action Group Inc. - ECPv6.15.20//NONSGML v1.0//EN
CALSCALE:GREGORIAN
METHOD:PUBLISH
X-ORIGINAL-URL:https://masonseniors.com
X-WR-CALDESC:Events for Mason County Action Group Inc.
REFRESH-INTERVAL;VALUE=DURATION:PT1H
X-Robots-Tag:noindex
X-PUBLISHED-TTL:PT1H
BEGIN:VTIMEZONE
TZID:UTC
BEGIN:STANDARD
TZOFFSETFROM:+0000
TZOFFSETTO:+0000
TZNAME:UTC
DTSTART:20230101T000000
END:STANDARD
END:VTIMEZONE
BEGIN:VEVENT
DTSTART;VALUE=DATE:20240520
DTEND;VALUE=DATE:20240521
DTSTAMP:20260425T144037
CREATED:20240430T163348Z
LAST-MODIFIED:20240430T163348Z
UID:4859-1716163200-1716249599@masonseniors.com
SUMMARY:Monday Lunch
DESCRIPTION:Beef Patty w/peppers & onions\nMashed Potatoes\nMixed Vegetables\nBread\nPineapple
URL:https://masonseniors.com/event/monday-lunch-37/
CATEGORIES:Lunch Menu
END:VEVENT
BEGIN:VEVENT
DTSTART;VALUE=DATE:20240521
DTEND;VALUE=DATE:20240522
DTSTAMP:20260425T144037
CREATED:20240430T163550Z
LAST-MODIFIED:20240430T163550Z
UID:4867-1716249600-1716335999@masonseniors.com
SUMMARY:Tuesday Lunch
DESCRIPTION:Chicken and Noodles\nCooked Carrots\nGreen Beans\nMixed Fruit
URL:https://masonseniors.com/event/tuesday-lunch-38/
CATEGORIES:Lunch Menu
END:VEVENT
BEGIN:VEVENT
DTSTART;VALUE=DATE:20240521
DTEND;VALUE=DATE:20240522
DTSTAMP:20260425T144037
CREATED:20240430T164713Z
LAST-MODIFIED:20240430T164713Z
UID:4907-1716249600-1716335999@masonseniors.com
SUMMARY:Crafts with Yvette @ 10:30 - Gene Salem
DESCRIPTION:
URL:https://masonseniors.com/event/crafts-with-yvette-1030-gene-salem-7/
CATEGORIES:Activities
END:VEVENT
BEGIN:VEVENT
DTSTART;VALUE=DATE:20240522
DTEND;VALUE=DATE:20240523
DTSTAMP:20260425T144037
CREATED:20240430T163804Z
LAST-MODIFIED:20240430T163804Z
UID:4877-1716336000-1716422399@masonseniors.com
SUMMARY:Wednesday Lunch
DESCRIPTION:Baked Battered Fish\nStewed Tomatoes\nMacaroni Salad\nMandarin Oranges
URL:https://masonseniors.com/event/wednesday-lunch-38/
CATEGORIES:Lunch Menu
END:VEVENT
BEGIN:VEVENT
DTSTART;VALUE=DATE:20240522
DTEND;VALUE=DATE:20240523
DTSTAMP:20260425T144037
CREATED:20240430T164741Z
LAST-MODIFIED:20240430T164741Z
UID:4909-1716336000-1716422399@masonseniors.com
SUMMARY:Wellness Checks/Health Info @ 10:30 - Gene Salem
DESCRIPTION:
URL:https://masonseniors.com/event/wellness-checks-health-info-1030-gene-salem/
CATEGORIES:Activities
END:VEVENT
BEGIN:VEVENT
DTSTART;VALUE=DATE:20240522
DTEND;VALUE=DATE:20240523
DTSTAMP:20260425T144037
CREATED:20240430T172947Z
LAST-MODIFIED:20240430T172947Z
UID:4919-1716336000-1716422399@masonseniors.com
SUMMARY:Wellness Checks/Health Info @ 10:30 - Mason
DESCRIPTION:
URL:https://masonseniors.com/event/wellness-checks-health-info-1030-mason/
CATEGORIES:Activities
END:VEVENT
BEGIN:VEVENT
DTSTART;VALUE=DATE:20240523
DTEND;VALUE=DATE:20240524
DTSTAMP:20260425T144037
CREATED:20240430T164136Z
LAST-MODIFIED:20240430T164136Z
UID:4887-1716422400-1716508799@masonseniors.com
SUMMARY:Thursday Lunch
DESCRIPTION:Hot Dog w/ Sauce & Bun\nCreamy Coleslaw\nPork-n-Beans\nMandarin Oranges
URL:https://masonseniors.com/event/thursday-lunch-38/
CATEGORIES:Lunch Menu
END:VEVENT
BEGIN:VEVENT
DTSTART;VALUE=DATE:20240523
DTEND;VALUE=DATE:20240524
DTSTAMP:20260425T144037
CREATED:20240430T164818Z
LAST-MODIFIED:20240430T164818Z
UID:4911-1716422400-1716508799@masonseniors.com
SUMMARY:Movie & Popcorn @ 10:00 - Gene Salem
DESCRIPTION:
URL:https://masonseniors.com/event/movie-popcorn-1000-gene-salem-2/
CATEGORIES:Activities
END:VEVENT
BEGIN:VEVENT
DTSTART;VALUE=DATE:20240524
DTEND;VALUE=DATE:20240525
DTSTAMP:20260425T144037
CREATED:20240430T164335Z
LAST-MODIFIED:20240430T164335Z
UID:4897-1716508800-1716595199@masonseniors.com
SUMMARY:Friday Lunch
DESCRIPTION:Chicken Salad Sandwich\nSide Salad\nPotato Chips\nPeaches
URL:https://masonseniors.com/event/friday-lunch-36/
CATEGORIES:Lunch Menu
END:VEVENT
BEGIN:VEVENT
DTSTART;VALUE=DATE:20240524
DTEND;VALUE=DATE:20240525
DTSTAMP:20260425T144037
CREATED:20240430T172522Z
LAST-MODIFIED:20240430T172522Z
UID:4913-1716508800-1716595199@masonseniors.com
SUMMARY:Medicare Minutes with Ann @ 10:15 - Gene Salem
DESCRIPTION:
URL:https://masonseniors.com/event/medicare-minutes-with-ann-1015-gene-salem-3/
CATEGORIES:Activities
END:VEVENT
END:VCALENDAR