BEGIN:VCALENDAR
VERSION:2.0
PRODID:-//Mason County Action Group Inc. - ECPv6.15.20//NONSGML v1.0//EN
CALSCALE:GREGORIAN
METHOD:PUBLISH
X-WR-CALNAME:Mason County Action Group Inc.
X-ORIGINAL-URL:https://masonseniors.com
X-WR-CALDESC:Events for Mason County Action Group Inc.
REFRESH-INTERVAL;VALUE=DURATION:PT1H
X-Robots-Tag:noindex
X-PUBLISHED-TTL:PT1H
BEGIN:VTIMEZONE
TZID:UTC
BEGIN:STANDARD
TZOFFSETFROM:+0000
TZOFFSETTO:+0000
TZNAME:UTC
DTSTART:20230101T000000
END:STANDARD
END:VTIMEZONE
BEGIN:VEVENT
DTSTART;VALUE=DATE:20240701
DTEND;VALUE=DATE:20240702
DTSTAMP:20260425T150721
CREATED:20240701T121713Z
LAST-MODIFIED:20240701T121713Z
UID:4989-1719792000-1719878399@masonseniors.com
SUMMARY:Monday Lunch
DESCRIPTION:Meatloaf\nMashed Potatoes\nSweet Peas\nWheat Bread\nMandarin Oranges
URL:https://masonseniors.com/event/monday-lunch-43/
CATEGORIES:Lunch Menu
END:VEVENT
BEGIN:VEVENT
DTSTART;VALUE=DATE:20240702
DTEND;VALUE=DATE:20240703
DTSTAMP:20260425T150721
CREATED:20240701T122030Z
LAST-MODIFIED:20240701T122030Z
UID:4999-1719878400-1719964799@masonseniors.com
SUMMARY:Tuesday Lunch
DESCRIPTION:Chicken and Noodles\nCooked Carrots\nGreen Beans\nWheat Bread\nMixed Fruit
URL:https://masonseniors.com/event/tuesday-lunch-44/
CATEGORIES:Lunch Menu
END:VEVENT
BEGIN:VEVENT
DTSTART;VALUE=DATE:20240703
DTEND;VALUE=DATE:20240704
DTSTAMP:20260425T150721
CREATED:20240701T123233Z
LAST-MODIFIED:20240701T123243Z
UID:5009-1719964800-1720051199@masonseniors.com
SUMMARY:Wednesday Lunch
DESCRIPTION:Independence Cupcake\nBaked Battered Fish\nStewed Tomatoes\nMacaroni Salad\nWheat Bread\nMandarin Oranges
URL:https://masonseniors.com/event/wednesday-lunch-44/
CATEGORIES:Lunch Menu
END:VEVENT
BEGIN:VEVENT
DTSTART;VALUE=DATE:20240703
DTEND;VALUE=DATE:20240704
DTSTAMP:20260425T150721
CREATED:20240701T124130Z
LAST-MODIFIED:20240701T124130Z
UID:5035-1719964800-1720051199@masonseniors.com
SUMMARY:July 4th Indoor Picnic @ 10:15 - Gene Salem
DESCRIPTION:
URL:https://masonseniors.com/event/july-4th-indoor-picnic-1015-gene-salem/
CATEGORIES:Activities
END:VEVENT
BEGIN:VEVENT
DTSTART;VALUE=DATE:20240703
DTEND;VALUE=DATE:20240704
DTSTAMP:20260425T150721
CREATED:20240701T124625Z
LAST-MODIFIED:20240701T124625Z
UID:5047-1719964800-1720051199@masonseniors.com
SUMMARY:July 4th Party @ 10:30 - Mason
DESCRIPTION:
URL:https://masonseniors.com/event/july-4th-party-1030-mason/
CATEGORIES:Activities
END:VEVENT
BEGIN:VEVENT
DTSTART;VALUE=DATE:20240704
DTEND;VALUE=DATE:20240705
DTSTAMP:20260425T150721
CREATED:20240701T123620Z
LAST-MODIFIED:20240701T123620Z
UID:5019-1720051200-1720137599@masonseniors.com
SUMMARY:Thursday Lunch
DESCRIPTION:Closed for Fourth of July
URL:https://masonseniors.com/event/thursday-lunch-44/
CATEGORIES:Lunch Menu
END:VEVENT
BEGIN:VEVENT
DTSTART;VALUE=DATE:20240705
DTEND;VALUE=DATE:20240706
DTSTAMP:20260425T150721
CREATED:20240701T123836Z
LAST-MODIFIED:20240701T123836Z
UID:5027-1720137600-1720223999@masonseniors.com
SUMMARY:Friday Lunch
DESCRIPTION:Chicken Salad Sandwich\nSide Salad\nPotato Chips\nPeaches
URL:https://masonseniors.com/event/friday-lunch-42/
CATEGORIES:Lunch Menu
END:VEVENT
END:VCALENDAR