BEGIN:VCALENDAR
VERSION:2.0
PRODID:-//Mason County Action Group Inc. - ECPv6.15.20//NONSGML v1.0//EN
CALSCALE:GREGORIAN
METHOD:PUBLISH
X-ORIGINAL-URL:https://masonseniors.com
X-WR-CALDESC:Events for Mason County Action Group Inc.
REFRESH-INTERVAL;VALUE=DURATION:PT1H
X-Robots-Tag:noindex
X-PUBLISHED-TTL:PT1H
BEGIN:VTIMEZONE
TZID:UTC
BEGIN:STANDARD
TZOFFSETFROM:+0000
TZOFFSETTO:+0000
TZNAME:UTC
DTSTART:20230101T000000
END:STANDARD
END:VTIMEZONE
BEGIN:VEVENT
DTSTART;VALUE=DATE:20240708
DTEND;VALUE=DATE:20240709
DTSTAMP:20260426T034350
CREATED:20240701T121743Z
LAST-MODIFIED:20240701T121743Z
UID:4991-1720396800-1720483199@masonseniors.com
SUMMARY:Monday Lunch
DESCRIPTION:Cheeseburger\nLettuce &Tomato\nPeas\nMixed Fruit
URL:https://masonseniors.com/event/monday-lunch-44/
CATEGORIES:Lunch Menu
END:VEVENT
BEGIN:VEVENT
DTSTART;VALUE=DATE:20240709
DTEND;VALUE=DATE:20240710
DTSTAMP:20260426T034350
CREATED:20240701T122100Z
LAST-MODIFIED:20240701T122100Z
UID:5001-1720483200-1720569599@masonseniors.com
SUMMARY:Tuesday Lunch
DESCRIPTION:Sweet-n-Sour Chicken\nWhite Rice\nMixed Vegetables\nEgg Roll\nBanana
URL:https://masonseniors.com/event/tuesday-lunch-45/
CATEGORIES:Lunch Menu
END:VEVENT
BEGIN:VEVENT
DTSTART;VALUE=DATE:20240709
DTEND;VALUE=DATE:20240710
DTSTAMP:20260426T034350
CREATED:20240701T124218Z
LAST-MODIFIED:20240701T124218Z
UID:5037-1720483200-1720569599@masonseniors.com
SUMMARY:Bodies in Motion Day @ 10:30 - Gene Salem
DESCRIPTION:
URL:https://masonseniors.com/event/bodies-in-motion-day-1030-gene-salem/
CATEGORIES:Activities
END:VEVENT
BEGIN:VEVENT
DTSTART;VALUE=DATE:20240710
DTEND;VALUE=DATE:20240711
DTSTAMP:20260426T034350
CREATED:20240701T123314Z
LAST-MODIFIED:20240701T123314Z
UID:5011-1720569600-1720655999@masonseniors.com
SUMMARY:Wednesday Lunch
DESCRIPTION:Broccoli Cheese Soup\nTuna Salad Sandwich\nCorn Chips\nRed Pepper Slices\nMedium Apple
URL:https://masonseniors.com/event/wednesday-lunch-45/
CATEGORIES:Lunch Menu
END:VEVENT
BEGIN:VEVENT
DTSTART;VALUE=DATE:20240711
DTEND;VALUE=DATE:20240712
DTSTAMP:20260426T034350
CREATED:20240701T123656Z
LAST-MODIFIED:20240701T123656Z
UID:5021-1720656000-1720742399@masonseniors.com
SUMMARY:Thursday Lunch
DESCRIPTION:Spaghetti w/ Meat Sauce\nSide Salad\nWheat Bread\nMandarin Oranges
URL:https://masonseniors.com/event/thursday-lunch-45/
CATEGORIES:Lunch Menu
END:VEVENT
BEGIN:VEVENT
DTSTART;VALUE=DATE:20240712
DTEND;VALUE=DATE:20240713
DTSTAMP:20260426T034350
CREATED:20240701T123906Z
LAST-MODIFIED:20240701T123906Z
UID:5029-1720742400-1720828799@masonseniors.com
SUMMARY:Friday Lunch
DESCRIPTION:Chef Salad with Diced Turkey\nRanch Dressing\nSaltine Crackers\nPeaches
URL:https://masonseniors.com/event/friday-lunch-43/
CATEGORIES:Lunch Menu
END:VEVENT
END:VCALENDAR