BEGIN:VCALENDAR
VERSION:2.0
PRODID:-//Mason County Action Group Inc. - ECPv6.15.20//NONSGML v1.0//EN
CALSCALE:GREGORIAN
METHOD:PUBLISH
X-ORIGINAL-URL:https://masonseniors.com
X-WR-CALDESC:Events for Mason County Action Group Inc.
REFRESH-INTERVAL;VALUE=DURATION:PT1H
X-Robots-Tag:noindex
X-PUBLISHED-TTL:PT1H
BEGIN:VTIMEZONE
TZID:UTC
BEGIN:STANDARD
TZOFFSETFROM:+0000
TZOFFSETTO:+0000
TZNAME:UTC
DTSTART:20230101T000000
END:STANDARD
END:VTIMEZONE
BEGIN:VEVENT
DTSTART;VALUE=DATE:20240722
DTEND;VALUE=DATE:20240723
DTSTAMP:20260426T021510
CREATED:20240701T121929Z
LAST-MODIFIED:20240701T121929Z
UID:4995-1721606400-1721692799@masonseniors.com
SUMMARY:Monday Lunch
DESCRIPTION:Breaded Pork Pattie\nMashed Potatoes\nCooked Carrots\nWheat Bread\nApplesauce
URL:https://masonseniors.com/event/monday-lunch-46/
CATEGORIES:Lunch Menu
END:VEVENT
BEGIN:VEVENT
DTSTART;VALUE=DATE:20240723
DTEND;VALUE=DATE:20240724
DTSTAMP:20260426T021510
CREATED:20240701T122209Z
LAST-MODIFIED:20240701T122209Z
UID:5005-1721692800-1721779199@masonseniors.com
SUMMARY:Tuesday Lunch
DESCRIPTION:Baked Chicken Drumsticks\nSweet Potatoes\nSteamed Broccoli\nWheat Bread\nMixed Fruit
URL:https://masonseniors.com/event/tuesday-lunch-47/
CATEGORIES:Lunch Menu
END:VEVENT
BEGIN:VEVENT
DTSTART;VALUE=DATE:20240723
DTEND;VALUE=DATE:20240724
DTSTAMP:20260426T021510
CREATED:20240701T124334Z
LAST-MODIFIED:20240701T124334Z
UID:5041-1721692800-1721779199@masonseniors.com
SUMMARY:Crafts with Yvette @ 10:30 - Gene Salem
DESCRIPTION:
URL:https://masonseniors.com/event/crafts-with-yvette-1030-gene-salem-9/
CATEGORIES:Activities
END:VEVENT
BEGIN:VEVENT
DTSTART;VALUE=DATE:20240724
DTEND;VALUE=DATE:20240725
DTSTAMP:20260426T021510
CREATED:20240701T123449Z
LAST-MODIFIED:20240701T123449Z
UID:5015-1721779200-1721865599@masonseniors.com
SUMMARY:Wednesday Lunch
DESCRIPTION:Great Northern Beans\nCooked Spinach\nHome Fries\nCornbread\nPineapple
URL:https://masonseniors.com/event/wednesday-lunch-47/
CATEGORIES:Lunch Menu
END:VEVENT
BEGIN:VEVENT
DTSTART;VALUE=DATE:20240724
DTEND;VALUE=DATE:20240725
DTSTAMP:20260426T021510
CREATED:20240701T124417Z
LAST-MODIFIED:20240701T124417Z
UID:5043-1721779200-1721865599@masonseniors.com
SUMMARY:Wellness Checks/Health Info @ 10:30 - Gene Salem
DESCRIPTION:
URL:https://masonseniors.com/event/wellness-checks-health-info-1030-gene-salem-3/
CATEGORIES:Activities
END:VEVENT
BEGIN:VEVENT
DTSTART;VALUE=DATE:20240725
DTEND;VALUE=DATE:20240726
DTSTAMP:20260426T021510
CREATED:20240701T123757Z
LAST-MODIFIED:20240701T123757Z
UID:5025-1721865600-1721951999@masonseniors.com
SUMMARY:Thursday Lunch
DESCRIPTION:Cheeseburger\nLettuce &Tomato\nCorn\nMixed Fruit
URL:https://masonseniors.com/event/thursday-lunch-47/
CATEGORIES:Lunch Menu
END:VEVENT
BEGIN:VEVENT
DTSTART;VALUE=DATE:20240725
DTEND;VALUE=DATE:20240726
DTSTAMP:20260426T021510
CREATED:20240701T124522Z
LAST-MODIFIED:20240701T124522Z
UID:5045-1721865600-1721951999@masonseniors.com
SUMMARY:Movie & Popcorn @ 10:30 - Gene Salem
DESCRIPTION:
URL:https://masonseniors.com/event/movie-popcorn-1030-gene-salem/
CATEGORIES:Activities
END:VEVENT
BEGIN:VEVENT
DTSTART;VALUE=DATE:20240726
DTEND;VALUE=DATE:20240727
DTSTAMP:20260426T021510
CREATED:20240701T124010Z
LAST-MODIFIED:20240701T124010Z
UID:5033-1721952000-1722038399@masonseniors.com
SUMMARY:Friday Lunch
DESCRIPTION:Homemade Vegetable Soup\nBologna & Cheese Sandwich\nPeaches in Jello
URL:https://masonseniors.com/event/friday-lunch-45/
CATEGORIES:Lunch Menu
END:VEVENT
END:VCALENDAR