BEGIN:VCALENDAR
VERSION:2.0
PRODID:-//Mason County Action Group Inc. - ECPv6.15.20//NONSGML v1.0//EN
CALSCALE:GREGORIAN
METHOD:PUBLISH
X-ORIGINAL-URL:https://masonseniors.com
X-WR-CALDESC:Events for Mason County Action Group Inc.
REFRESH-INTERVAL;VALUE=DURATION:PT1H
X-Robots-Tag:noindex
X-PUBLISHED-TTL:PT1H
BEGIN:VTIMEZONE
TZID:UTC
BEGIN:STANDARD
TZOFFSETFROM:+0000
TZOFFSETTO:+0000
TZNAME:UTC
DTSTART:20230101T000000
END:STANDARD
END:VTIMEZONE
BEGIN:VEVENT
DTSTART;VALUE=DATE:20241223
DTEND;VALUE=DATE:20241224
DTSTAMP:20260424T110028
CREATED:20241126T132333Z
LAST-MODIFIED:20241126T132333Z
UID:5177-1734912000-1734998399@masonseniors.com
SUMMARY:Monday Lunch
DESCRIPTION:Crab Pattie\nMac-n-Cheese\nStewed Tomatoes\nCucumber Slices\nWheat Bread and Apple
URL:https://masonseniors.com/event/monday-lunch-60/
CATEGORIES:Lunch Menu
END:VEVENT
BEGIN:VEVENT
DTSTART;VALUE=DATE:20241224
DTEND;VALUE=DATE:20241225
DTSTAMP:20260424T110028
CREATED:20241126T133546Z
LAST-MODIFIED:20241126T133546Z
UID:5213-1734998400-1735084799@masonseniors.com
SUMMARY:Tuesday Lunch
DESCRIPTION:Meatloaf\nMashed Potatoes\nSweet Peas\nWheat Bread\nPeaches in Jello
URL:https://masonseniors.com/event/tuesday-lunch-62/
CATEGORIES:Lunch Menu
END:VEVENT
BEGIN:VEVENT
DTSTART;VALUE=DATE:20241224
DTEND;VALUE=DATE:20241225
DTSTAMP:20260424T110028
CREATED:20241126T134131Z
LAST-MODIFIED:20241126T134131Z
UID:5223-1734998400-1735084799@masonseniors.com
SUMMARY:Crafts with Yvette @ 10:30 - Gene Salem
DESCRIPTION:
URL:https://masonseniors.com/event/crafts-with-yvette-1030-gene-salem-12/
CATEGORIES:Activities
END:VEVENT
BEGIN:VEVENT
DTSTART;VALUE=DATE:20241225
DTEND;VALUE=DATE:20241226
DTSTAMP:20260424T110028
CREATED:20241126T132902Z
LAST-MODIFIED:20241126T132902Z
UID:5195-1735084800-1735171199@masonseniors.com
SUMMARY:Wednesday Lunch
DESCRIPTION:Closed for Christmas
URL:https://masonseniors.com/event/wednesday-lunch-61/
CATEGORIES:Lunch Menu
END:VEVENT
BEGIN:VEVENT
DTSTART;VALUE=DATE:20241226
DTEND;VALUE=DATE:20241227
DTSTAMP:20260424T110028
CREATED:20241126T133114Z
LAST-MODIFIED:20241126T133114Z
UID:5203-1735171200-1735257599@masonseniors.com
SUMMARY:Thursday Lunch
DESCRIPTION:Two Soft Taco Shells\nTaco Meat\, Refried Beans\nLettuce\, Tomatoes\, Cheese\nApplesauce
URL:https://masonseniors.com/event/thursday-lunch-60/
CATEGORIES:Lunch Menu
END:VEVENT
BEGIN:VEVENT
DTSTART;VALUE=DATE:20241226
DTEND;VALUE=DATE:20241227
DTSTAMP:20260424T110028
CREATED:20241126T134212Z
LAST-MODIFIED:20241126T134212Z
UID:5225-1735171200-1735257599@masonseniors.com
SUMMARY:Movie and Snacks @ 10 a.m. - Gene Salem
DESCRIPTION:
URL:https://masonseniors.com/event/movie-and-snacks-10-a-m-gene-salem/
CATEGORIES:Activities
END:VEVENT
BEGIN:VEVENT
DTSTART;VALUE=DATE:20241227
DTEND;VALUE=DATE:20241228
DTSTAMP:20260424T110028
CREATED:20241126T133314Z
LAST-MODIFIED:20241126T133314Z
UID:5211-1735257600-1735343999@masonseniors.com
SUMMARY:Friday Lunch
DESCRIPTION:Birthday Cupcake\nHot Dog w/ Sauce & Bun\nCreamy Coleslaw\nGreen Beans\nMandarin Oranges
URL:https://masonseniors.com/event/friday-lunch-58/
CATEGORIES:Lunch Menu
END:VEVENT
BEGIN:VEVENT
DTSTART;VALUE=DATE:20241227
DTEND;VALUE=DATE:20241228
DTSTAMP:20260424T110028
CREATED:20241126T134250Z
LAST-MODIFIED:20241126T134250Z
UID:5227-1735257600-1735343999@masonseniors.com
SUMMARY:Medicare Minutes with Ann @ 10:30 a.m. - Gene Salem
DESCRIPTION:
URL:https://masonseniors.com/event/medicare-minutes-with-ann-1030-a-m-gene-salem/
CATEGORIES:Activities
END:VEVENT
END:VCALENDAR