BEGIN:VCALENDAR
VERSION:2.0
PRODID:-//Mason County Action Group Inc. - ECPv6.15.20//NONSGML v1.0//EN
CALSCALE:GREGORIAN
METHOD:PUBLISH
X-WR-CALNAME:Mason County Action Group Inc.
X-ORIGINAL-URL:https://masonseniors.com
X-WR-CALDESC:Events for Mason County Action Group Inc.
REFRESH-INTERVAL;VALUE=DURATION:PT1H
X-Robots-Tag:noindex
X-PUBLISHED-TTL:PT1H
BEGIN:VTIMEZONE
TZID:UTC
BEGIN:STANDARD
TZOFFSETFROM:+0000
TZOFFSETTO:+0000
TZNAME:UTC
DTSTART:20240101T000000
END:STANDARD
END:VTIMEZONE
BEGIN:VEVENT
DTSTART;VALUE=DATE:20250210
DTEND;VALUE=DATE:20250211
DTSTAMP:20260424T160721
CREATED:20250130T142151Z
LAST-MODIFIED:20250130T142151Z
UID:5300-1739145600-1739231999@masonseniors.com
SUMMARY:Monday Lunch
DESCRIPTION:Salisbury Steak w/Gravy\nMashed Potatoes\nCooked Spinach\nWheat Bread\nApplesauce
URL:https://masonseniors.com/event/monday-lunch-66/
CATEGORIES:Lunch Menu
END:VEVENT
BEGIN:VEVENT
DTSTART;VALUE=DATE:20250211
DTEND;VALUE=DATE:20250212
DTSTAMP:20260424T160721
CREATED:20250130T142511Z
LAST-MODIFIED:20250130T142511Z
UID:5308-1739232000-1739318399@masonseniors.com
SUMMARY:Tuesday Lunch
DESCRIPTION:Homemade Vegetable Soup\nBologna & Cheese Sandwich\nPeaches in Jello
URL:https://masonseniors.com/event/tuesday-lunch-68/
CATEGORIES:Lunch Menu
END:VEVENT
BEGIN:VEVENT
DTSTART;VALUE=DATE:20250212
DTEND;VALUE=DATE:20250213
DTSTAMP:20260424T160721
CREATED:20250130T142740Z
LAST-MODIFIED:20250130T142740Z
UID:5316-1739318400-1739404799@masonseniors.com
SUMMARY:Wednesday Lunch
DESCRIPTION:Baked Chicken Drumsticks\nSweet Potatoes\nSteamed Broccoli\nWheat Bread\nMixed Fruit
URL:https://masonseniors.com/event/wednesday-lunch-68/
CATEGORIES:Lunch Menu
END:VEVENT
BEGIN:VEVENT
DTSTART;VALUE=DATE:20250212
DTEND;VALUE=DATE:20250213
DTSTAMP:20260424T160721
CREATED:20250130T150136Z
LAST-MODIFIED:20250130T150136Z
UID:5338-1739318400-1739404799@masonseniors.com
SUMMARY:Senior Center Country Band @ 10 am - Gene Salem
DESCRIPTION:
URL:https://masonseniors.com/event/senior-center-country-band-10-am-gene-salem/
CATEGORIES:Activities
END:VEVENT
BEGIN:VEVENT
DTSTART;VALUE=DATE:20250213
DTEND;VALUE=DATE:20250214
DTSTAMP:20260424T160721
CREATED:20250130T143049Z
LAST-MODIFIED:20250130T143049Z
UID:5324-1739404800-1739491199@masonseniors.com
SUMMARY:Thursday Lunch
DESCRIPTION:Breaded Fish\nSweet Peas\nColeslaw\nWheat Bread\nMandarin Oranges in Jello
URL:https://masonseniors.com/event/thursday-lunch-70/
CATEGORIES:Lunch Menu
END:VEVENT
BEGIN:VEVENT
DTSTART;VALUE=DATE:20250214
DTEND;VALUE=DATE:20250215
DTSTAMP:20260424T160721
CREATED:20250130T143258Z
LAST-MODIFIED:20250130T143258Z
UID:5332-1739491200-1739577599@masonseniors.com
SUMMARY:Friday Lunch
DESCRIPTION:Creamed Chicken & Vegetables\nBiscuit\nMashed Potatoes\nSpiced Apples
URL:https://masonseniors.com/event/friday-lunch-62/
CATEGORIES:Lunch Menu
END:VEVENT
BEGIN:VEVENT
DTSTART;VALUE=DATE:20250214
DTEND;VALUE=DATE:20250215
DTSTAMP:20260424T160721
CREATED:20250130T150301Z
LAST-MODIFIED:20250130T150301Z
UID:5342-1739491200-1739577599@masonseniors.com
SUMMARY:Valentine’s Day Party @ 10:30 am - Mason and Gene Salem
DESCRIPTION:
URL:https://masonseniors.com/event/valentines-day-party-1030-am-mason-and-gene-salem/
CATEGORIES:Activities
END:VEVENT
END:VCALENDAR