BEGIN:VCALENDAR
VERSION:2.0
PRODID:-//Mason County Action Group Inc. - ECPv6.15.20//NONSGML v1.0//EN
CALSCALE:GREGORIAN
METHOD:PUBLISH
X-ORIGINAL-URL:https://masonseniors.com
X-WR-CALDESC:Events for Mason County Action Group Inc.
REFRESH-INTERVAL;VALUE=DURATION:PT1H
X-Robots-Tag:noindex
X-PUBLISHED-TTL:PT1H
BEGIN:VTIMEZONE
TZID:UTC
BEGIN:STANDARD
TZOFFSETFROM:+0000
TZOFFSETTO:+0000
TZNAME:UTC
DTSTART:20240101T000000
END:STANDARD
END:VTIMEZONE
BEGIN:VEVENT
DTSTART;VALUE=DATE:20250714
DTEND;VALUE=DATE:20250715
DTSTAMP:20260424T143456
CREATED:20250625T170841Z
LAST-MODIFIED:20250625T170841Z
UID:5550-1752451200-1752537599@masonseniors.com
SUMMARY:Monday Lunch
DESCRIPTION:Cheeseburger\nHome Fries\nCorn\nMixed Fruit
URL:https://masonseniors.com/event/monday-lunch-83/
CATEGORIES:Lunch Menu
END:VEVENT
BEGIN:VEVENT
DTSTART;VALUE=DATE:20250715
DTEND;VALUE=DATE:20250716
DTSTAMP:20260424T143456
CREATED:20250625T171248Z
LAST-MODIFIED:20250625T171248Z
UID:5560-1752537600-1752623999@masonseniors.com
SUMMARY:Tuesday Lunch
DESCRIPTION:Great Northern Beans\nCooked Spinach\nDiced Potatoes\nCornbread\nPineapple
URL:https://masonseniors.com/event/tuesday-lunch-85/
CATEGORIES:Lunch Menu
END:VEVENT
BEGIN:VEVENT
DTSTART;VALUE=DATE:20250716
DTEND;VALUE=DATE:20250717
DTSTAMP:20260424T143456
CREATED:20250625T171539Z
LAST-MODIFIED:20250625T171539Z
UID:5568-1752624000-1752710399@masonseniors.com
SUMMARY:Wednesday Lunch
DESCRIPTION:Sweet-n-Sour Chicken\nWhite Rice\nMixed Vegetables\nCabbage Egg Roll\nMandarin Oranges
URL:https://masonseniors.com/event/wednesday-lunch-85/
CATEGORIES:Lunch Menu
END:VEVENT
BEGIN:VEVENT
DTSTART;VALUE=DATE:20250717
DTEND;VALUE=DATE:20250718
DTSTAMP:20260424T143456
CREATED:20250625T171819Z
LAST-MODIFIED:20250625T171819Z
UID:5579-1752710400-1752796799@masonseniors.com
SUMMARY:Thursday Lunch
DESCRIPTION:Spaghetti w/ Meat Sauce\nSide Salad\nWheat Bread\nApplesauce
URL:https://masonseniors.com/event/thursday-lunch-88/
CATEGORIES:Lunch Menu
END:VEVENT
BEGIN:VEVENT
DTSTART;VALUE=DATE:20250718
DTEND;VALUE=DATE:20250719
DTSTAMP:20260424T143456
CREATED:20250625T172247Z
LAST-MODIFIED:20250625T172247Z
UID:5588-1752796800-1752883199@masonseniors.com
SUMMARY:Friday Lunch
DESCRIPTION:BBQ Chicken Breast\nBaby Baked Potatoes\nGreen Beans\nWheat Bread\nDiced Peaches
URL:https://masonseniors.com/event/friday-lunch-78/
CATEGORIES:Lunch Menu
END:VEVENT
END:VCALENDAR