BEGIN:VCALENDAR
VERSION:2.0
PRODID:-//Mason County Action Group Inc. - ECPv6.15.20//NONSGML v1.0//EN
CALSCALE:GREGORIAN
METHOD:PUBLISH
X-WR-CALNAME:Mason County Action Group Inc.
X-ORIGINAL-URL:https://masonseniors.com
X-WR-CALDESC:Events for Mason County Action Group Inc.
REFRESH-INTERVAL;VALUE=DURATION:PT1H
X-Robots-Tag:noindex
X-PUBLISHED-TTL:PT1H
BEGIN:VTIMEZONE
TZID:UTC
BEGIN:STANDARD
TZOFFSETFROM:+0000
TZOFFSETTO:+0000
TZNAME:UTC
DTSTART:20240101T000000
END:STANDARD
END:VTIMEZONE
BEGIN:VEVENT
DTSTART;VALUE=DATE:20250728
DTEND;VALUE=DATE:20250729
DTSTAMP:20260424T125827
CREATED:20250625T171116Z
LAST-MODIFIED:20250625T171116Z
UID:5554-1753660800-1753747199@masonseniors.com
SUMMARY:Monday Lunch
DESCRIPTION:Crab Pattie\nMac-n-Cheese\nStewed Tomatoes\nCucumber Slices\nWheat Bread and Apple
URL:https://masonseniors.com/event/monday-lunch-85/
CATEGORIES:Lunch Menu
END:VEVENT
BEGIN:VEVENT
DTSTART;VALUE=DATE:20250729
DTEND;VALUE=DATE:20250730
DTSTAMP:20260424T125827
CREATED:20250625T171349Z
LAST-MODIFIED:20250625T171349Z
UID:5561-1753747200-1753833599@masonseniors.com
SUMMARY:Tuesday Lunch
DESCRIPTION:Meatloaf\nMashed Potatoes\nSweet Peas\nWheat Bread\nDiced Peaches
URL:https://masonseniors.com/event/tuesday-lunch-87/
CATEGORIES:Lunch Menu
END:VEVENT
BEGIN:VEVENT
DTSTART;VALUE=DATE:20250730
DTEND;VALUE=DATE:20250731
DTSTAMP:20260424T125827
CREATED:20250625T171641Z
LAST-MODIFIED:20250625T171641Z
UID:5572-1753833600-1753919999@masonseniors.com
SUMMARY:Wednesday Lunch
DESCRIPTION:Baked Homestyle Chicken\nRice Pilaf\nCooked Carrots & Broccoli\nWheat Bread\nPineapple
URL:https://masonseniors.com/event/wednesday-lunch-87/
CATEGORIES:Lunch Menu
END:VEVENT
BEGIN:VEVENT
DTSTART;VALUE=DATE:20250731
DTEND;VALUE=DATE:20250801
DTSTAMP:20260424T125827
CREATED:20250625T171854Z
LAST-MODIFIED:20250625T171854Z
UID:5578-1753920000-1754006399@masonseniors.com
SUMMARY:Thursday Lunch
DESCRIPTION:Two Soft Taco Shells\nTaco Meat\, Refried Beans\nLettuce\, Tomatoes\, Cheese\nApplesauce
URL:https://masonseniors.com/event/thursday-lunch-90/
CATEGORIES:Lunch Menu
END:VEVENT
BEGIN:VEVENT
DTSTART;VALUE=DATE:20250801
DTEND;VALUE=DATE:20250802
DTSTAMP:20260424T125827
CREATED:20250731T115231Z
LAST-MODIFIED:20250731T115231Z
UID:5649-1754006400-1754092799@masonseniors.com
SUMMARY:Friday Lunch
DESCRIPTION:Chicken Salad\non Wheat Bread\nSide Salad\nDiced Peaches
URL:https://masonseniors.com/event/friday-lunch-80/
CATEGORIES:Lunch Menu
END:VEVENT
END:VCALENDAR