BEGIN:VCALENDAR
VERSION:2.0
PRODID:-//Mason County Action Group Inc. - ECPv6.15.20//NONSGML v1.0//EN
CALSCALE:GREGORIAN
METHOD:PUBLISH
X-WR-CALNAME:Mason County Action Group Inc.
X-ORIGINAL-URL:https://masonseniors.com
X-WR-CALDESC:Events for Mason County Action Group Inc.
REFRESH-INTERVAL;VALUE=DURATION:PT1H
X-Robots-Tag:noindex
X-PUBLISHED-TTL:PT1H
BEGIN:VTIMEZONE
TZID:UTC
BEGIN:STANDARD
TZOFFSETFROM:+0000
TZOFFSETTO:+0000
TZNAME:UTC
DTSTART:20240101T000000
END:STANDARD
END:VTIMEZONE
BEGIN:VEVENT
DTSTART;VALUE=DATE:20250811
DTEND;VALUE=DATE:20250812
DTSTAMP:20260425T025327
CREATED:20250731T114413Z
LAST-MODIFIED:20250731T114413Z
UID:5619-1754870400-1754956799@masonseniors.com
SUMMARY:Monday Lunch
DESCRIPTION:Salisbury Steak w/Gravy\nMashed Potatoes\nCooked Spinach\nWheat Bread\nApplesauce
URL:https://masonseniors.com/event/monday-lunch-87/
CATEGORIES:Lunch Menu
END:VEVENT
BEGIN:VEVENT
DTSTART;VALUE=DATE:20250812
DTEND;VALUE=DATE:20250813
DTSTAMP:20260425T025327
CREATED:20250731T114614Z
LAST-MODIFIED:20250731T114614Z
UID:5627-1754956800-1755043199@masonseniors.com
SUMMARY:Tuesday Lunch
DESCRIPTION:Homemade Vegetable Soup\nBologna & Cheese Sandwich\non Wheat Bread\nDiced Peaches
URL:https://masonseniors.com/event/tuesday-lunch-89/
CATEGORIES:Lunch Menu
END:VEVENT
BEGIN:VEVENT
DTSTART;VALUE=DATE:20250813
DTEND;VALUE=DATE:20250814
DTSTAMP:20260425T025327
CREATED:20250731T112519Z
LAST-MODIFIED:20250731T112519Z
UID:5607-1755043200-1755129599@masonseniors.com
SUMMARY:Wellness Checks/Health Info @ 10:30 - Gene Salem
DESCRIPTION:
URL:https://masonseniors.com/event/wellness-checks-health-info-1030-gene-salem-6/
CATEGORIES:Activities
END:VEVENT
BEGIN:VEVENT
DTSTART;VALUE=DATE:20250813
DTEND;VALUE=DATE:20250814
DTSTAMP:20260425T025327
CREATED:20250731T114850Z
LAST-MODIFIED:20250731T114850Z
UID:5635-1755043200-1755129599@masonseniors.com
SUMMARY:Wednesday Lunch
DESCRIPTION:Baked Chicken Drumsticks\nSweet Potatoes\nSteamed Broccoli\nWheat Bread\nMixed Fruit
URL:https://masonseniors.com/event/wednesday-lunch-89/
CATEGORIES:Lunch Menu
END:VEVENT
BEGIN:VEVENT
DTSTART;VALUE=DATE:20250814
DTEND;VALUE=DATE:20250815
DTSTAMP:20260425T025327
CREATED:20250731T115047Z
LAST-MODIFIED:20250731T115047Z
UID:5643-1755129600-1755215999@masonseniors.com
SUMMARY:Thursday Lunch
DESCRIPTION:Breaded Fish\nSweet Peas\nColeslaw\nWheat Bread\nMandarin Oranges with Jello
URL:https://masonseniors.com/event/thursday-lunch-92/
CATEGORIES:Lunch Menu
END:VEVENT
BEGIN:VEVENT
DTSTART;VALUE=DATE:20250815
DTEND;VALUE=DATE:20250816
DTSTAMP:20260425T025327
CREATED:20250731T115338Z
LAST-MODIFIED:20250731T115338Z
UID:5653-1755216000-1755302399@masonseniors.com
SUMMARY:Friday Lunch
DESCRIPTION:Creamed Chicken & Vegetables\nBiscuit\nMashed Potatoes\nSpiced Apples
URL:https://masonseniors.com/event/friday-lunch-82/
CATEGORIES:Lunch Menu
END:VEVENT
END:VCALENDAR