BEGIN:VCALENDAR
VERSION:2.0
PRODID:-//Mason County Action Group Inc. - ECPv6.15.20//NONSGML v1.0//EN
CALSCALE:GREGORIAN
METHOD:PUBLISH
X-ORIGINAL-URL:https://masonseniors.com
X-WR-CALDESC:Events for Mason County Action Group Inc.
REFRESH-INTERVAL;VALUE=DURATION:PT1H
X-Robots-Tag:noindex
X-PUBLISHED-TTL:PT1H
BEGIN:VTIMEZONE
TZID:UTC
BEGIN:STANDARD
TZOFFSETFROM:+0000
TZOFFSETTO:+0000
TZNAME:UTC
DTSTART:20240101T000000
END:STANDARD
END:VTIMEZONE
BEGIN:VEVENT
DTSTART;VALUE=DATE:20250818
DTEND;VALUE=DATE:20250819
DTSTAMP:20260425T025335
CREATED:20250731T114443Z
LAST-MODIFIED:20250731T114443Z
UID:5621-1755475200-1755561599@masonseniors.com
SUMMARY:Monday Lunch
DESCRIPTION:Crab Pattie\nMac-n-Cheese\nStewed Tomatoes\nCucumber Slices\nWheat Bread and Apple
URL:https://masonseniors.com/event/monday-lunch-88/
CATEGORIES:Lunch Menu
END:VEVENT
BEGIN:VEVENT
DTSTART;VALUE=DATE:20250819
DTEND;VALUE=DATE:20250820
DTSTAMP:20260425T025335
CREATED:20250731T112657Z
LAST-MODIFIED:20250731T112657Z
UID:5609-1755561600-1755647999@masonseniors.com
SUMMARY:Crafts with Yvette @ 10:30 - Gene Salem
DESCRIPTION:
URL:https://masonseniors.com/event/crafts-with-yvette-1030-gene-salem-19/
CATEGORIES:Activities
END:VEVENT
BEGIN:VEVENT
DTSTART;VALUE=DATE:20250819
DTEND;VALUE=DATE:20250820
DTSTAMP:20260425T025335
CREATED:20250731T114651Z
LAST-MODIFIED:20250731T114651Z
UID:5629-1755561600-1755647999@masonseniors.com
SUMMARY:Tuesday Lunch
DESCRIPTION:Meatloaf\nMashed Potatoes\nSweet Peas\nWheat Bread\nDiced Peaches
URL:https://masonseniors.com/event/tuesday-lunch-90/
CATEGORIES:Lunch Menu
END:VEVENT
BEGIN:VEVENT
DTSTART;VALUE=DATE:20250820
DTEND;VALUE=DATE:20250821
DTSTAMP:20260425T025335
CREATED:20250731T114919Z
LAST-MODIFIED:20250731T114919Z
UID:5637-1755648000-1755734399@masonseniors.com
SUMMARY:Wednesday Lunch
DESCRIPTION:Baked Homestyle Chicken\nRice Pilaf\nCooked Carrots & Broccoli\nWheat Bread\nPineapple
URL:https://masonseniors.com/event/wednesday-lunch-90/
CATEGORIES:Lunch Menu
END:VEVENT
BEGIN:VEVENT
DTSTART;VALUE=DATE:20250821
DTEND;VALUE=DATE:20250822
DTSTAMP:20260425T025335
CREATED:20250731T112824Z
LAST-MODIFIED:20250731T112824Z
UID:5611-1755734400-1755820799@masonseniors.com
SUMMARY:Move & Snacks @ 10:00 - Gene Salem
DESCRIPTION:
URL:https://masonseniors.com/event/move-snacks-1000-gene-salem/
CATEGORIES:Activities
END:VEVENT
BEGIN:VEVENT
DTSTART;VALUE=DATE:20250821
DTEND;VALUE=DATE:20250822
DTSTAMP:20260425T025335
CREATED:20250731T115120Z
LAST-MODIFIED:20250731T115120Z
UID:5645-1755734400-1755820799@masonseniors.com
SUMMARY:Thursday Lunch
DESCRIPTION:Two Soft Taco Shells\nTaco Meat\, Refried Beans\nLettuce\, Tomatoes\, Cheese\nApplesauce
URL:https://masonseniors.com/event/thursday-lunch-93/
CATEGORIES:Lunch Menu
END:VEVENT
BEGIN:VEVENT
DTSTART;VALUE=DATE:20250822
DTEND;VALUE=DATE:20250823
DTSTAMP:20260425T025335
CREATED:20250731T112940Z
LAST-MODIFIED:20250731T112940Z
UID:5613-1755820800-1755907199@masonseniors.com
SUMMARY:Medicare Minutes with Ann @ 10:15 - Gene Salem
DESCRIPTION:
URL:https://masonseniors.com/event/medicare-minutes-with-ann-1015-gene-salem-10/
CATEGORIES:Activities
END:VEVENT
BEGIN:VEVENT
DTSTART;VALUE=DATE:20250822
DTEND;VALUE=DATE:20250823
DTSTAMP:20260425T025335
CREATED:20250731T113048Z
LAST-MODIFIED:20250731T113048Z
UID:5615-1755820800-1755907199@masonseniors.com
SUMMARY:Myra Schultz\, PVHH @ 10:30 - Gene Salem
DESCRIPTION:
URL:https://masonseniors.com/event/myra-schultz-pvhh-1030-gene-salem-3/
CATEGORIES:Activities
END:VEVENT
BEGIN:VEVENT
DTSTART;VALUE=DATE:20250822
DTEND;VALUE=DATE:20250823
DTSTAMP:20260425T025335
CREATED:20250731T115415Z
LAST-MODIFIED:20250731T115415Z
UID:5655-1755820800-1755907199@masonseniors.com
SUMMARY:Friday Lunch
DESCRIPTION:Hot Dog w/ Sauce & Bun\nCreamy Coleslaw\nGreen Beans\nMandarin Oranges with Jello
URL:https://masonseniors.com/event/friday-lunch-83/
CATEGORIES:Lunch Menu
END:VEVENT
END:VCALENDAR