BEGIN:VCALENDAR
VERSION:2.0
PRODID:-//Mason County Action Group Inc. - ECPv6.15.20//NONSGML v1.0//EN
CALSCALE:GREGORIAN
METHOD:PUBLISH
X-WR-CALNAME:Mason County Action Group Inc.
X-ORIGINAL-URL:https://masonseniors.com
X-WR-CALDESC:Events for Mason County Action Group Inc.
REFRESH-INTERVAL;VALUE=DURATION:PT1H
X-Robots-Tag:noindex
X-PUBLISHED-TTL:PT1H
BEGIN:VTIMEZONE
TZID:UTC
BEGIN:STANDARD
TZOFFSETFROM:+0000
TZOFFSETTO:+0000
TZNAME:UTC
DTSTART:20240101T000000
END:STANDARD
END:VTIMEZONE
BEGIN:VEVENT
DTSTART;VALUE=DATE:20250825
DTEND;VALUE=DATE:20250826
DTSTAMP:20260424T125823
CREATED:20250731T114519Z
LAST-MODIFIED:20250731T114519Z
UID:5623-1756080000-1756166399@masonseniors.com
SUMMARY:Monday Lunch
DESCRIPTION:Homemade Chili\nw/meat & beans\nCornbread\nApple
URL:https://masonseniors.com/event/monday-lunch-89/
CATEGORIES:Lunch Menu
END:VEVENT
BEGIN:VEVENT
DTSTART;VALUE=DATE:20250826
DTEND;VALUE=DATE:20250827
DTSTAMP:20260424T125823
CREATED:20250731T114738Z
LAST-MODIFIED:20250731T114738Z
UID:5631-1756166400-1756252799@masonseniors.com
SUMMARY:Tuesday Lunch
DESCRIPTION:Egg & Cheese Omelet\nSausage Gravy & Biscuit\nDiced Potatoes\nApple
URL:https://masonseniors.com/event/tuesday-lunch-91/
CATEGORIES:Lunch Menu
END:VEVENT
BEGIN:VEVENT
DTSTART;VALUE=DATE:20250827
DTEND;VALUE=DATE:20250828
DTSTAMP:20260424T125823
CREATED:20250731T114944Z
LAST-MODIFIED:20250731T114944Z
UID:5639-1756252800-1756339199@masonseniors.com
SUMMARY:Wednesday Lunch
DESCRIPTION:Chicken & Stuffing Casserole\nCooked Carrots\nGreen Beans\nWheat Bread\nMixed Fruit
URL:https://masonseniors.com/event/wednesday-lunch-91/
CATEGORIES:Lunch Menu
END:VEVENT
BEGIN:VEVENT
DTSTART;VALUE=DATE:20250828
DTEND;VALUE=DATE:20250829
DTSTAMP:20260424T125823
CREATED:20250731T115152Z
LAST-MODIFIED:20250731T115152Z
UID:5647-1756339200-1756425599@masonseniors.com
SUMMARY:Thursday Lunch
DESCRIPTION:Broccoli Cheese Soup\nTuna Salad on Wheat Bread\nPickled Beets\nMandarin Oranges with Jello
URL:https://masonseniors.com/event/thursday-lunch-94/
CATEGORIES:Lunch Menu
END:VEVENT
BEGIN:VEVENT
DTSTART;VALUE=DATE:20250829
DTEND;VALUE=DATE:20250830
DTSTAMP:20260424T125823
CREATED:20250731T115513Z
LAST-MODIFIED:20250731T115513Z
UID:5657-1756425600-1756511999@masonseniors.com
SUMMARY:Friday Lunch
DESCRIPTION:Chicken Salad\non Wheat Bread\nSide Salad\nDiced Peaches
URL:https://masonseniors.com/event/friday-lunch-84/
CATEGORIES:Lunch Menu
END:VEVENT
END:VCALENDAR